BEGIN:VCALENDAR
VERSION:2.0
PRODID:-//Cars and Coffee Events - ECPv6.15.20//NONSGML v1.0//EN
CALSCALE:GREGORIAN
METHOD:PUBLISH
X-WR-CALNAME:Cars and Coffee Events
X-ORIGINAL-URL:https://carsandcoffeeevents.com
X-WR-CALDESC:Events for Cars and Coffee Events
REFRESH-INTERVAL;VALUE=DURATION:PT1H
X-Robots-Tag:noindex
X-PUBLISHED-TTL:PT1H
BEGIN:VTIMEZONE
TZID:America/Los_Angeles
BEGIN:DAYLIGHT
TZOFFSETFROM:-0800
TZOFFSETTO:-0700
TZNAME:PDT
DTSTART:20250309T100000
END:DAYLIGHT
BEGIN:STANDARD
TZOFFSETFROM:-0700
TZOFFSETTO:-0800
TZNAME:PST
DTSTART:20251102T090000
END:STANDARD
BEGIN:DAYLIGHT
TZOFFSETFROM:-0800
TZOFFSETTO:-0700
TZNAME:PDT
DTSTART:20260308T100000
END:DAYLIGHT
BEGIN:STANDARD
TZOFFSETFROM:-0700
TZOFFSETTO:-0800
TZNAME:PST
DTSTART:20261101T090000
END:STANDARD
BEGIN:DAYLIGHT
TZOFFSETFROM:-0800
TZOFFSETTO:-0700
TZNAME:PDT
DTSTART:20270314T100000
END:DAYLIGHT
BEGIN:STANDARD
TZOFFSETFROM:-0700
TZOFFSETTO:-0800
TZNAME:PST
DTSTART:20271107T090000
END:STANDARD
END:VTIMEZONE
BEGIN:VTIMEZONE
TZID:America/Chicago
BEGIN:DAYLIGHT
TZOFFSETFROM:-0600
TZOFFSETTO:-0500
TZNAME:CDT
DTSTART:20250309T080000
END:DAYLIGHT
BEGIN:STANDARD
TZOFFSETFROM:-0500
TZOFFSETTO:-0600
TZNAME:CST
DTSTART:20251102T070000
END:STANDARD
BEGIN:DAYLIGHT
TZOFFSETFROM:-0600
TZOFFSETTO:-0500
TZNAME:CDT
DTSTART:20260308T080000
END:DAYLIGHT
BEGIN:STANDARD
TZOFFSETFROM:-0500
TZOFFSETTO:-0600
TZNAME:CST
DTSTART:20261101T070000
END:STANDARD
BEGIN:DAYLIGHT
TZOFFSETFROM:-0600
TZOFFSETTO:-0500
TZNAME:CDT
DTSTART:20270314T080000
END:DAYLIGHT
BEGIN:STANDARD
TZOFFSETFROM:-0500
TZOFFSETTO:-0600
TZNAME:CST
DTSTART:20271107T070000
END:STANDARD
END:VTIMEZONE
BEGIN:VTIMEZONE
TZID:America/New_York
BEGIN:DAYLIGHT
TZOFFSETFROM:-0500
TZOFFSETTO:-0400
TZNAME:EDT
DTSTART:20250309T070000
END:DAYLIGHT
BEGIN:STANDARD
TZOFFSETFROM:-0400
TZOFFSETTO:-0500
TZNAME:EST
DTSTART:20251102T060000
END:STANDARD
BEGIN:DAYLIGHT
TZOFFSETFROM:-0500
TZOFFSETTO:-0400
TZNAME:EDT
DTSTART:20260308T070000
END:DAYLIGHT
BEGIN:STANDARD
TZOFFSETFROM:-0400
TZOFFSETTO:-0500
TZNAME:EST
DTSTART:20261101T060000
END:STANDARD
BEGIN:DAYLIGHT
TZOFFSETFROM:-0500
TZOFFSETTO:-0400
TZNAME:EDT
DTSTART:20270314T070000
END:DAYLIGHT
BEGIN:STANDARD
TZOFFSETFROM:-0400
TZOFFSETTO:-0500
TZNAME:EST
DTSTART:20271107T060000
END:STANDARD
END:VTIMEZONE
BEGIN:VTIMEZONE
TZID:America/Denver
BEGIN:DAYLIGHT
TZOFFSETFROM:-0700
TZOFFSETTO:-0600
TZNAME:MDT
DTSTART:20250309T090000
END:DAYLIGHT
BEGIN:STANDARD
TZOFFSETFROM:-0600
TZOFFSETTO:-0700
TZNAME:MST
DTSTART:20251102T080000
END:STANDARD
BEGIN:DAYLIGHT
TZOFFSETFROM:-0700
TZOFFSETTO:-0600
TZNAME:MDT
DTSTART:20260308T090000
END:DAYLIGHT
BEGIN:STANDARD
TZOFFSETFROM:-0600
TZOFFSETTO:-0700
TZNAME:MST
DTSTART:20261101T080000
END:STANDARD
BEGIN:DAYLIGHT
TZOFFSETFROM:-0700
TZOFFSETTO:-0600
TZNAME:MDT
DTSTART:20270314T090000
END:DAYLIGHT
BEGIN:STANDARD
TZOFFSETFROM:-0600
TZOFFSETTO:-0700
TZNAME:MST
DTSTART:20271107T080000
END:STANDARD
END:VTIMEZONE
BEGIN:VEVENT
DTSTART;TZID=America/Los_Angeles:20261113T160000
DTEND;TZID=America/Los_Angeles:20261113T235900
DTSTAMP:20260425T094236
CREATED:20231026T211425Z
LAST-MODIFIED:20231027T191349Z
UID:10002661-1794585600-1794614340@carsandcoffeeevents.com
SUMMARY:Bob’s Big Boy Cruise Night
DESCRIPTION:Bob’s Big Boy Cruise Night is every Friday from 4pm to Midnight in Northridge\, California. \nThere is a private backroom of the restaurant to host car clubs and events.
URL:https://carsandcoffeeevents.com/event/bobs-big-boy-cruise-night/2026-11-13/
LOCATION:Bob’s Big Boy Northridge\, 8876 Corbin Ave\, Northridge\, CA\, 91324\, United States
CATEGORIES:California
ATTACH;FMTTYPE=image/jpeg:https://carsandcoffeeevents.com/wp-content/uploads/2023/10/Bobs-Big-Boy-Cruise-Night-v1Wv4E.tmp_.jpg
END:VEVENT
BEGIN:VEVENT
DTSTART;TZID=America/Chicago:20261113T170000
DTEND;TZID=America/Chicago:20261113T200000
DTSTAMP:20260425T094236
CREATED:20231026T212531Z
LAST-MODIFIED:20231026T212531Z
UID:10003599-1794589200-1794600000@carsandcoffeeevents.com
SUMMARY:Canyon Lake Hot Rod and Classic Car Cruise In
DESCRIPTION:Car cruise-in coincides with Steak Night and Live music on the patio. A gift certificate from the store is drawn at 7:30p for all cruise participants. \nEvery 2nd Friday of the month.\nFrom 5 pm to 8 pm \nAt Brookshire Brothers grocery store.
URL:https://carsandcoffeeevents.com/event/canyon-lake-hot-rod-and-classic-car-cruise-in/2026-11-13/
LOCATION:Brookshire Brothers Eagle Lake\, 801 S McCarty Ave\, Eagle Lake\, TX\, 77434\, United States
CATEGORIES:Texas
ORGANIZER;CN="Class of it's Own Car Shows":MAILTO:jeanie@dmjtech.com
END:VEVENT
BEGIN:VEVENT
DTSTART;TZID=America/New_York:20261113T170000
DTEND;TZID=America/New_York:20261113T200000
DTSTAMP:20260425T094236
CREATED:20231203T150944Z
LAST-MODIFIED:20231203T150944Z
UID:10074057-1794589200-1794600000@carsandcoffeeevents.com
SUMMARY:Fired Up Fridays
DESCRIPTION:Friday Nights\, the Promenade at Sunset Walk presents “Fired-Up Fridays”. A Free event\, with all makes\, models & years welcome of Show Car Quality. Music by DJ Scotty B and Company Plus the very best Regional Live Bands performing nightly. The Promenade is Home to over 2 Dozen Restaurants\, Retail Shops\, Movie Theaters and Entertainment options. Located just ½ Mile from the Intersection of SR 429 & US 192 at 3251 Margaritaville Blvd. FREE Admission & FREE Parking No Outside Food or Beverage Allowed
URL:https://carsandcoffeeevents.com/event/fired-up-fridays/2026-11-13/
LOCATION:Promenade at Sunset Walk\, 3251 Margaritaville Blvd\, Kissimmee\, FL\, 34747\, United States
CATEGORIES:Florida
ATTACH;FMTTYPE=image/jpeg:https://carsandcoffeeevents.com/wp-content/uploads/2023/12/Fired-Up-Fridays.jpg
END:VEVENT
BEGIN:VEVENT
DTSTART;TZID=America/Chicago:20261113T170000
DTEND;TZID=America/Chicago:20261113T200000
DTSTAMP:20260425T094236
CREATED:20231203T151323Z
LAST-MODIFIED:20231203T151323Z
UID:10074200-1794589200-1794600000@carsandcoffeeevents.com
SUMMARY:Classic Cars of Navarre
DESCRIPTION:Every second Friday of the month\, Classic car (1986 and older) enthusiasts gather together at the Navarre Park starting at 5 PM.  Free meet and greet event\, a family-friendly time to enjoy socializing with other car people.
URL:https://carsandcoffeeevents.com/event/classic-cars-of-navarre/2026-11-13/
LOCATION:Navarre Park\, 8513 Navarre Parkway\, Navarre\, FL\, 32566\, United States
CATEGORIES:Florida
ATTACH;FMTTYPE=image/jpeg:https://carsandcoffeeevents.com/wp-content/uploads/2023/12/Classic-Cars-of-Navarre.jpg
END:VEVENT
BEGIN:VEVENT
DTSTART;TZID=America/Los_Angeles:20261113T170000
DTEND;TZID=America/Los_Angeles:20261113T200000
DTSTAMP:20260425T094236
CREATED:20240517T165726Z
LAST-MODIFIED:20240517T165726Z
UID:10109245-1794589200-1794600000@carsandcoffeeevents.com
SUMMARY:Tuxie's Drive In Cruise Night
DESCRIPTION:No details available.
URL:https://carsandcoffeeevents.com/event/tuxies-drive-in-cruise-night/2026-11-13/
LOCATION:Tuxie’s Drive In\, 6030 Magnolia Ave.\, Riverside\, CA\, 92506
CATEGORIES:California
ATTACH;FMTTYPE=image/jpeg:https://carsandcoffeeevents.com/wp-content/uploads/2024/05/Tuxies-Drive-In-Cruise-Night.jpg
END:VEVENT
BEGIN:VEVENT
DTSTART;TZID=America/New_York:20261113T170000
DTEND;TZID=America/New_York:20261113T210000
DTSTAMP:20260425T094236
CREATED:20231203T145658Z
LAST-MODIFIED:20231203T145658Z
UID:10073556-1794589200-1794603600@carsandcoffeeevents.com
SUMMARY:Lakeland Cruisers Cruise Night
DESCRIPTION:Lakeland Cruisers has been going for over 18+ years.  Modern cars are welcome\, no loud music\, family-oriented\, respect others and their property.  There is a Checkers nearby for dining. The lot should be well-lit and should be a much better venue for the show.
URL:https://carsandcoffeeevents.com/event/lakeland-cruisers-cruise-night/2026-11-13/
LOCATION:old Sears Town Parking Lot\, 997 East Memorial Blvd\, Lakeland\, FL\, 33801\, United States
CATEGORIES:Florida
ATTACH;FMTTYPE=image/jpeg:https://carsandcoffeeevents.com/wp-content/uploads/2023/11/Generic-Cruise-Night.jpg
END:VEVENT
BEGIN:VEVENT
DTSTART;TZID=America/Los_Angeles:20261113T170000
DTEND;TZID=America/Los_Angeles:20261113T220000
DTSTAMP:20260425T094236
CREATED:20231127T231624Z
LAST-MODIFIED:20231127T231624Z
UID:10047189-1794589200-1794607200@carsandcoffeeevents.com
SUMMARY:Wheels & Whoppers
DESCRIPTION:Wheels & Whoppers Every Friday 5-10pm
URL:https://carsandcoffeeevents.com/event/wheels-whoppers/2026-11-13/
LOCATION:Burger King – Sepulveda Blvd\, 3520 S. Sepulveda Blvd\, Los Angeles\, CA\, 90034\, United States
CATEGORIES:California
ATTACH;FMTTYPE=image/jpeg:https://carsandcoffeeevents.com/wp-content/uploads/2023/11/Wheels-Whoppers.jpg
END:VEVENT
BEGIN:VEVENT
DTSTART;TZID=America/Chicago:20261113T173000
DTEND;TZID=America/Chicago:20261113T200000
DTSTAMP:20260425T094236
CREATED:20231201T001417Z
LAST-MODIFIED:20231201T001417Z
UID:10059596-1794591000-1794600000@carsandcoffeeevents.com
SUMMARY:Cruise-In Nights at The Backyard
DESCRIPTION:The Backyard Food Truck Park & Bar will be hosting Cruise-In Nights every 2nd & 4th Fridays of the Month from 5:30-8:00PM!  Come join us from some great food and show off your ride!
URL:https://carsandcoffeeevents.com/event/cruise-in-nights-at-the-backyard/2026-11-13/
LOCATION:The Backyard\, 115 SW Main Street\, Ennis\, TX\, 75119\, United States
CATEGORIES:Texas
ATTACH;FMTTYPE=image/jpeg:https://carsandcoffeeevents.com/wp-content/uploads/2023/11/Cruise-In-Nights-at-The-Backyard.jpg
ORGANIZER;CN="The Backyard":MAILTO:thebackyardennistx@gmail.com
END:VEVENT
BEGIN:VEVENT
DTSTART;TZID=America/Chicago:20261113T173000
DTEND;TZID=America/Chicago:20261113T203000
DTSTAMP:20260425T094236
CREATED:20231129T171655Z
LAST-MODIFIED:20231129T171655Z
UID:10056595-1794591000-1794601800@carsandcoffeeevents.com
SUMMARY:Grapevine Cruise Night
DESCRIPTION:FREE EVENT Weather permitting\, we meet every Friday night. Blagg Tire is our Amazing Host Location. Come on out with your coolest classic and fun cars\, we will be livening up Main Street Grapevine with the sound of V8s and muscle. Come find Tommy and Josh to talk about selling your car with Gateway Classic Cars.
URL:https://carsandcoffeeevents.com/event/grapevine-cruise-night/2026-11-13/
LOCATION:Blagg Tire Pros & Service\, 604 S. Main Street\, Grapevine\, TX\, 76051\, United States
CATEGORIES:Texas
ATTACH;FMTTYPE=image/jpeg:https://carsandcoffeeevents.com/wp-content/uploads/2023/11/Grapevine-Cruise-Night.jpg
ORGANIZER;CN="Gateway Classic Cars of Dallas":MAILTO:info@gatewayclassiccars.com
END:VEVENT
BEGIN:VEVENT
DTSTART;TZID=America/Chicago:20261113T173000
DTEND;TZID=America/Chicago:20261113T210000
DTSTAMP:20260425T094236
CREATED:20231027T022030Z
LAST-MODIFIED:20231027T022030Z
UID:10022028-1794591000-1794603600@carsandcoffeeevents.com
SUMMARY:Oldies But Goodies Car Show and Social Club Friday Night Cruise
DESCRIPTION:Oldies But Goodies Car Show and Social Club Friday Night Cruise in on the Square in Llano – officially starts at 7 PM\, \nSome club members arrive at about 5:30 PM so they get something to eat on the square\, sit around and talk and still drive home before it’s dark.
URL:https://carsandcoffeeevents.com/event/oldies-but-goodies-car-show-and-social-club-friday-night-cruise/2026-11-13/
LOCATION:On the Square Llano TX\, Llano\, TX\, 78643\, United States
CATEGORIES:Texas
END:VEVENT
BEGIN:VEVENT
DTSTART;TZID=America/Los_Angeles:20261113T180000
DTEND;TZID=America/Los_Angeles:20261113T200000
DTSTAMP:20260425T094236
CREATED:20231127T232117Z
LAST-MODIFIED:20231127T232117Z
UID:10047450-1794592800-1794600000@carsandcoffeeevents.com
SUMMARY:Cruise Nights at Boy's Burgers
DESCRIPTION:Join us every Friday from 6pm to 10pm for our Cruise Nites. NO DRAMA NO BURNOUTS. Location: Boy’s Burgers at 167 N. Carmalita St in Hemet.
URL:https://carsandcoffeeevents.com/event/cruise-nights-at-boys-burgers/2026-11-13/
LOCATION:Boy’s Burgers\, 167 N Carmalita St\, Hemet\, CA\, 92543\, United States
CATEGORIES:California
ATTACH;FMTTYPE=image/jpeg:https://carsandcoffeeevents.com/wp-content/uploads/2023/11/Cruise-Nights-at-Boys-Burgers.jpg
END:VEVENT
BEGIN:VEVENT
DTSTART;TZID=America/New_York:20261113T180000
DTEND;TZID=America/New_York:20261113T200000
DTSTAMP:20260425T094236
CREATED:20231203T152842Z
LAST-MODIFIED:20231203T152842Z
UID:10074639-1794592800-1794600000@carsandcoffeeevents.com
SUMMARY:Hardee's Cruise in Lake City
DESCRIPTION:Weekly on Friday 6pm-8pm
URL:https://carsandcoffeeevents.com/event/hardees-cruise-in-lake-city/2026-11-13/
LOCATION:Hardee’s (Lake City)\, 2609 W US Hwy 90\, Lake City\, FL\, 32055\, United States
CATEGORIES:Florida
ATTACH;FMTTYPE=image/jpeg:https://carsandcoffeeevents.com/wp-content/uploads/2023/11/Generic-Cruise-Night.jpg
END:VEVENT
BEGIN:VEVENT
DTSTART;TZID=America/New_York:20261113T180000
DTEND;TZID=America/New_York:20261113T210000
DTSTAMP:20260425T094236
CREATED:20231027T025320Z
LAST-MODIFIED:20231027T025320Z
UID:10024742-1794592800-1794603600@carsandcoffeeevents.com
SUMMARY:Sebring Friday Cruise In
DESCRIPTION:Every month on the 2nd & 4th Fridays.  Open to all cars\, trucks\, and motorcycles.  Bring your ride finished or still under construction.  This is a casual meet and greet\, so come tell your stories.  No awards\, door prizes\, or any other competition. Just good times and conversations.  In front of the Sebring Walmart.  Please no burnouts\, alcohol\, or loud music.   This is a family-oriented event.
URL:https://carsandcoffeeevents.com/event/sebring-friday-cruise-in/2026-11-13/
LOCATION:Twistee Treat (Sebring)\, 33711 Grand Prix Dr\, Sebring\, FL\, 33870\, United States
CATEGORIES:Florida
ORGANIZER;CN="Twistee Treat (Sebring)":MAILTO:fridaynightcarshow@yahoo.com
END:VEVENT
BEGIN:VEVENT
DTSTART;TZID=America/New_York:20261113T180000
DTEND;TZID=America/New_York:20261113T210000
DTSTAMP:20260425T094236
CREATED:20231203T153733Z
LAST-MODIFIED:20231203T153733Z
UID:10075043-1794592800-1794603600@carsandcoffeeevents.com
SUMMARY:Cruise Nights ay Boston's Restaurant
DESCRIPTION:Join the fun at the New Cruise In event every 2nd Friday of the month starting June 9th from 6pm to 9pm at Boston’s Restaurant and Sports Bar. Meet new friends and enjoy the exciting atmosphere of the River City location situated at 13070 City Station Drive\, 32218.
URL:https://carsandcoffeeevents.com/event/cruise-nights-ay-bostons-restaurant/2026-11-13/
LOCATION:Boston’s Restaurant and Sports Bar\, 13070 City Station Drive\, Jacosonvillle\, FL\, 32218\, United States
CATEGORIES:Florida
ATTACH;FMTTYPE=image/jpeg:https://carsandcoffeeevents.com/wp-content/uploads/2023/12/Bostons-Restaurant-Cruise-Nights.jpg
END:VEVENT
BEGIN:VEVENT
DTSTART;TZID=America/Los_Angeles:20261113T180000
DTEND;TZID=America/Los_Angeles:20261113T210000
DTSTAMP:20260425T094236
CREATED:20260315T194623Z
LAST-MODIFIED:20260315T194623Z
UID:10185576-1794592800-1794603600@carsandcoffeeevents.com
SUMMARY:Ventura Friday Cruise Night
DESCRIPTION:A weekly Friday night cruise night in Ventura hosted by the Pharaohs SoCal Car Club — a community with a rich history dating back to 1953. Features classic cars\, hot rods\, lowriders\, and custom builds. Family-friendly and welcoming to all car lovers.
URL:https://carsandcoffeeevents.com/event/ventura-friday-cruise-night/2026-11-13/
LOCATION:Wendy’s\, 2662 E Thompson Blvd\, Ventura\, California\, 93003\, United States
CATEGORIES:California
ATTACH;FMTTYPE=image/jpeg:https://carsandcoffeeevents.com/wp-content/uploads/2025/11/Generic-Cruise-Night.jpg
END:VEVENT
BEGIN:VEVENT
DTSTART;TZID=America/Chicago:20261113T180000
DTEND;TZID=America/Chicago:20261113T220000
DTSTAMP:20260425T094236
CREATED:20231026T211047Z
LAST-MODIFIED:20231026T211047Z
UID:10002079-1794592800-1794607200@carsandcoffeeevents.com
SUMMARY:Biff Buzby’s Hot Rod Cruise-In
DESCRIPTION:Biff Buzby’s Hot Rod Cruise-In happens every Friday night 6 pm to 10 pm. $5 admission\, but you receive a $5 coupon to use at Biff’s.\nUsually\, there is Live music or a DJ playing at the event.
URL:https://carsandcoffeeevents.com/event/biff-buzbys-hot-rod-cruise-in/2026-11-13/
LOCATION:Biff Buzby’s Burgers\, 12702 Toepperwein Rd\, Ste 130\, San Antonio\, TX\, 78233\, United States
CATEGORIES:Texas
END:VEVENT
BEGIN:VEVENT
DTSTART;TZID=America/Chicago:20261113T180000
DTEND;TZID=America/Chicago:20261113T220000
DTSTAMP:20260425T094236
CREATED:20231026T234003Z
LAST-MODIFIED:20231026T234003Z
UID:10010208-1794592800-1794607200@carsandcoffeeevents.com
SUMMARY:Classical Gas Nostalgia Nights
DESCRIPTION:This free weekly car cruise is hosted by Classical Gas Motors. It takes place every Friday from 6PM-10PM at Albertsons in Arlington\, TX. It is a come and go event with no entry fee. \nListen to some old tunes and enjoy looking at the classic and custom vehicles that come out. It is occasionally canceled due to bad weather\, holidays\, and temperatures below 50 degrees.
URL:https://carsandcoffeeevents.com/event/classical-gas-nostalgia-nights/2026-11-13/
LOCATION:Albertsons (Arlington)\, 6220 US-287\, Arlington\, TX\, 76001\, United States
CATEGORIES:Texas
ORGANIZER;CN="Classical Gas Motors":MAILTO:cris@classicalgasmotors.com
END:VEVENT
BEGIN:VEVENT
DTSTART;TZID=America/Denver:20261113T183000
DTEND;TZID=America/Denver:20261113T203000
DTSTAMP:20260425T094236
CREATED:20231129T122217Z
LAST-MODIFIED:20231129T122217Z
UID:10054532-1794594600-1794601800@carsandcoffeeevents.com
SUMMARY:Maricopa Friday Night Tacos
DESCRIPTION:Park and Chill every Friday by the 99 Cent store and taco truck
URL:https://carsandcoffeeevents.com/event/maricopa-friday-night-tacos/2026-11-13/
LOCATION:99 Cents Only Stores\, 44515 W. Edison Rd\, Maricopa\, AZ\, 85139\, United States
CATEGORIES:Arizona
ATTACH;FMTTYPE=image/jpeg:https://carsandcoffeeevents.com/wp-content/uploads/2023/11/Maricopa-Friday-Night-Tacos.jpg
END:VEVENT
BEGIN:VEVENT
DTSTART;TZID=America/Los_Angeles:20261113T183000
DTEND;TZID=America/Los_Angeles:20261113T213000
DTSTAMP:20260425T094236
CREATED:20231224T111306Z
LAST-MODIFIED:20231224T111341Z
UID:10090162-1794594600-1794605400@carsandcoffeeevents.com
SUMMARY:Burger Town Cruise Night Ontario
DESCRIPTION:Just Cruizin So Cal VW Club hosts the Burger Town Cruise Night on the first Friday of every month at 6:30 PM. Enjoy a night of classic cars\, delicious food\, and great company. Join us at Burger Town USA located at 760 N Archibald Ave\, Ontario\, CA 91764.
URL:https://carsandcoffeeevents.com/event/burger-town-cruise-night-ontario/2026-11-13/
LOCATION:Burger Town USA\, 760 N Archibald Ave\, Ontario\, CA\, 91764\, United States
CATEGORIES:California
ATTACH;FMTTYPE=image/jpeg:https://carsandcoffeeevents.com/wp-content/uploads/2023/12/Burger-Town-Cruise-Night-Ontario.jpg
END:VEVENT
BEGIN:VEVENT
DTSTART;TZID=America/Denver:20261113T190000
DTEND;TZID=America/Denver:20261113T210000
DTSTAMP:20260425T094236
CREATED:20231105T195435Z
LAST-MODIFIED:20231105T195435Z
UID:10035124-1794596400-1794603600@carsandcoffeeevents.com
SUMMARY:Fuego Friday
DESCRIPTION:Friday night hangout for car lovers who can’t make the Saturday morning Westside Cars and Coffee. Come chill and meet other enthusiasts in front of Fuego 505. \nEvery Friday night.
URL:https://carsandcoffeeevents.com/event/fuego-friday/2026-11-13/
LOCATION:Fuego 505\, 5750 McMahon Blvd\, Albubuerque\, NM\, 87114\, United States
CATEGORIES:New Mexico
ATTACH;FMTTYPE=image/jpeg:https://carsandcoffeeevents.com/wp-content/uploads/2023/11/Generic-Cruise-Night.jpg
ORGANIZER;CN="Westside Cars and Coffee Albuquerque":MAILTO:westsideccabq@gmail.com
END:VEVENT
BEGIN:VEVENT
DTSTART;TZID=America/Los_Angeles:20261113T190000
DTEND;TZID=America/Los_Angeles:20261113T210000
DTSTAMP:20260425T094236
CREATED:20231127T233221Z
LAST-MODIFIED:20231127T233221Z
UID:10047831-1794596400-1794603600@carsandcoffeeevents.com
SUMMARY:Valley Cruise Night
DESCRIPTION:Valley Cruise Night takes place in the San Fernando Valley Every Friday night! FRIDAY NIGHTS 7p – 9p Meet at FOSTERS FREEZE 201 s. Glenoaks – Burbank! We typically stay at Fosters until 9-930 and then cruise to a host of valley spots\, including Bobs\, Tonga Hut or Taco stands! Come join us!
URL:https://carsandcoffeeevents.com/event/valley-cruise-night/2026-11-13/
LOCATION:Foster’s Freeze\, 201 South Glenoaks Boulevard\, Burbank\, CA\, 91502\, United States
CATEGORIES:California
ATTACH;FMTTYPE=image/jpeg:https://carsandcoffeeevents.com/wp-content/uploads/2023/11/Valley-Cruise-Night.jpg
END:VEVENT
BEGIN:VEVENT
DTSTART;TZID=America/Los_Angeles:20261113T190000
DTEND;TZID=America/Los_Angeles:20261113T210000
DTSTAMP:20260425T094236
CREATED:20231127T233535Z
LAST-MODIFIED:20231127T233535Z
UID:10048092-1794596400-1794603600@carsandcoffeeevents.com
SUMMARY:Kickback at Tom's Cruise Night
DESCRIPTION:Kickback at Tom’s every Friday All cars are welcome and motorcycles 37959 47th St E Palmdale\, CA 93552
URL:https://carsandcoffeeevents.com/event/kickback-at-toms-cruise-night/2026-11-13/
LOCATION:Tom’s Burgers – Palmdale\, 37959 47th St E\, Palmdale\, CA\, 93552\, United States
CATEGORIES:California
ATTACH;FMTTYPE=image/jpeg:https://carsandcoffeeevents.com/wp-content/uploads/2023/11/Kickback-at-Toms-Cruise-Night.jpg
END:VEVENT
BEGIN:VEVENT
DTSTART;TZID=America/New_York:20261113T190000
DTEND;TZID=America/New_York:20261113T210000
DTSTAMP:20260425T094236
CREATED:20231203T154751Z
LAST-MODIFIED:20231206T233242Z
UID:10081705-1794596400-1794603600@carsandcoffeeevents.com
SUMMARY:Willybuilt Meet
DESCRIPTION:willybuilt Friday weekly car meet no burnouts no revving no crazy loud music come out have fun and enjoy the cars and people who all share the same passion for cars
URL:https://carsandcoffeeevents.com/event/willybuilt-meet/2026-11-13/
LOCATION:The WingHouse Bar & Grill\, 6515 US Hwy 19\, New Port Richey\, FL\, 34652\, United States
CATEGORIES:Florida
ATTACH;FMTTYPE=image/jpeg:https://carsandcoffeeevents.com/wp-content/uploads/2023/12/Willybuilt-Meet.jpg
END:VEVENT
BEGIN:VEVENT
DTSTART;TZID=America/Los_Angeles:20261113T190000
DTEND;TZID=America/Los_Angeles:20261113T210000
DTSTAMP:20260425T094236
CREATED:20260315T194622Z
LAST-MODIFIED:20260315T194622Z
UID:10185316-1794596400-1794603600@carsandcoffeeevents.com
SUMMARY:Valley Cruise Night Car Meet
DESCRIPTION:A weekly Friday night cruise night in Burbank at Fosters Freeze\, featuring beautiful classic car creations in association with the Odd Squad Car Club. Features customized cars\, restored classics\, and more. The group often cruises after the meet-up.
URL:https://carsandcoffeeevents.com/event/valley-cruise-night-car-meet/2026-11-13/
LOCATION:Foster’s Freeze\, 201 South Glenoaks Boulevard\, Burbank\, CA\, 91502\, United States
CATEGORIES:California
ATTACH;FMTTYPE=image/jpeg:https://carsandcoffeeevents.com/wp-content/uploads/2025/11/Generic-Cruise-Night.jpg
END:VEVENT
BEGIN:VEVENT
DTSTART;TZID=America/New_York:20261113T190000
DTEND;TZID=America/New_York:20261113T230000
DTSTAMP:20260425T094236
CREATED:20231027T021041Z
LAST-MODIFIED:20231027T021041Z
UID:10020890-1794596400-1794610800@carsandcoffeeevents.com
SUMMARY:No Flex Car Cruise
DESCRIPTION:We’re expanding to new spots. \nCome out and kick it with us this Friday & Saturday Night and every Friday & Saturday Night at Bittersweet Shopping Center on Preston across from Southern High School.
URL:https://carsandcoffeeevents.com/event/no-flex-car-cruise/2026-11-13/
LOCATION:Bittersweet Center\, 8651 Preston Hwy\, Louisville\, KY\, 40219\, United States
CATEGORIES:Kentucky
ORGANIZER;CN="No Flex Car Club":MAILTO:Noflexcarclub@gmail.com
END:VEVENT
BEGIN:VEVENT
DTSTART;TZID=America/Chicago:20261113T200000
DTEND;TZID=America/Chicago:20261113T220000
DTSTAMP:20260425T094236
CREATED:20231027T142949Z
LAST-MODIFIED:20231027T142949Z
UID:10028354-1794600000-1794607200@carsandcoffeeevents.com
SUMMARY:Weekly Cruise In At Rimtyme
DESCRIPTION:Join us every Friday from 8pm to 10pm at Rimtyme off Riverside Drive!\nThis is a weekly event\, we will only cancel due to severe weather and major holidays.\nEvery other Friday starting February 25th\, Sassys Food Truck will be out with us serving up some fantastic food. Make sure to support their food truck.\nPlease pick up any trash you may have and be respectful of Rimtyme allowing us to host this great event.
URL:https://carsandcoffeeevents.com/event/weekly-cruise-in-at-rimtyme/2026-11-13/
LOCATION:Rimtyme\, 672 N Riverside Dr\, Clarksville\, TN\, 37040\, United States
CATEGORIES:Tennessee
END:VEVENT
BEGIN:VEVENT
DTSTART;TZID=America/Chicago:20261114T080000
DTEND;TZID=America/Chicago:20261114T170000
DTSTAMP:20260425T094236
CREATED:20231027T140953Z
LAST-MODIFIED:20231027T140953Z
UID:10026555-1794643200-1794675600@carsandcoffeeevents.com
SUMMARY:Tiger Town Cruise-in
DESCRIPTION:Local monthly cruise-in that is hosted by Deep South Cruisers of Opelika
URL:https://carsandcoffeeevents.com/event/tiger-town-cruise-in/2026-11-14/
LOCATION:Home Depot Opelika\, 2190 Tiger Town Pkwy\, Opelika\, AL\, 36801\, United States
CATEGORIES:Alabama
ORGANIZER;CN="Deep South Cruisers":MAILTO:deepsouthcruisers@outlook.com
END:VEVENT
BEGIN:VEVENT
DTSTART;TZID=America/Chicago:20261114T100000
DTEND;TZID=America/Chicago:20261114T130000
DTSTAMP:20260425T094236
CREATED:20260328T130246Z
LAST-MODIFIED:20260328T130246Z
UID:10195948-1794650400-1794661200@carsandcoffeeevents.com
SUMMARY:Tucker Cruise In
DESCRIPTION:The Tucker Cruise-in brings together car enthusiasts for an old-fashioned town meet and greet right on Main Street. This beloved community gathering takes place the second Saturday of every month from April through September\, running from 10am to 1pm. \nCar lovers will find an impressive variety of vehicles on display\, from vintage antiques and custom street rods to sleek motorcycles and unique imports. Whether you’re a participant or spectator\, this classic event showcases the best of automotive culture. \nFor those wanting to show off their rides\, registration costs just $5 – a small price to be part of this vibrant monthly tradition that celebrates both cars and community.
URL:https://carsandcoffeeevents.com/event/tucker-cruise-in/2026-11-14/
LOCATION:Main Street Mounds OK\, Main Street\, Mounds\, OK\, 74047\, United States
CATEGORIES:Georgia
ATTACH;FMTTYPE=image/png:https://carsandcoffeeevents.com/wp-content/uploads/2026/03/Untitled-89-600x408-2.png
END:VEVENT
BEGIN:VEVENT
DTSTART;TZID=America/New_York:20261114T130000
DTEND;TZID=America/New_York:20261114T230000
DTSTAMP:20260425T094236
CREATED:20231222T143019Z
LAST-MODIFIED:20231222T143019Z
UID:10089590-1794661200-1794697200@carsandcoffeeevents.com
SUMMARY:Saturday Night Old Town Classic Car Show
DESCRIPTION:Join us every Saturday and take a trip down memory lane. The Old Town Classic Car Show has been a local tradition for over 30 years\, it is one of the premier weekly car shows in Central Florida. The Saturday Classic Car Show begins at 1:00pm and welcomes show-quality 1985 and older hot rods\, street rods\, and antiques. Cars will cruise at 8:30pm and all cars registered can participate.\nThe Classic Car Show is free for participants and free for the public to attend. It’s the perfect outing for families of every generation\, young and old\, to enjoy. \n***$2\,000 Giveaway Every Month ($1\,000 on Friday and $1\,000 on Saturday)*** \nExclusive for Old Town Cruisers – Each time you cruise at Old Town on Friday and Saturday during the month\, you’re entered for the chance to win $1\,000! After the cruise on the last Friday and Saturday of each month\, one name will be drawn and that Cruiser will win $1\,000 courtesy of Old Town Kissimmee.\nPARTICIPATING CLASSIC CARS: enter Old Town from Highway 192 under the east (left) side of the Jukebox signs where you’ll be greeted by Event Staff. They will then direct you to a security escort down the brick streets. Please do not drive on the bricks without permission.
URL:https://carsandcoffeeevents.com/event/saturday-night-old-town-classic-car-show/2026-11-14/
LOCATION:Old Town Kissimmee\, 2843 Old Town Blvd\, Kissimmee\, FL\, 34746\, United States
CATEGORIES:Florida
ATTACH;FMTTYPE=image/jpeg:https://carsandcoffeeevents.com/wp-content/uploads/2023/12/Saturday-Night-Old-Town-Classic-Car-Show.jpg
ORGANIZER;CN="Old Town Kissimmee":MAILTO:info@myoldtownusa.com
END:VEVENT
BEGIN:VEVENT
DTSTART;TZID=America/New_York:20261114T150000
DTEND;TZID=America/New_York:20261114T180000
DTSTAMP:20260425T094236
CREATED:20231203T171921Z
LAST-MODIFIED:20231203T171921Z
UID:10077262-1794668400-1794679200@carsandcoffeeevents.com
SUMMARY:City Center Cruise Nights
DESCRIPTION:2nd Saturday of the Month 3pm-6pm COME JOIN US AT OUR NEW LOCATION\, 1000 CITY CENTER CIR\, PORT ORANGE\, FL32129 2023. \nMuscle Car Street Rod – Classic Truck or Motorcycle MUSIC BY DJ WEASEL \nSponsored By: East Coast Cruisers\, Inc. eastcostcruiserscarclub@hotmail.com
URL:https://carsandcoffeeevents.com/event/city-center-cruise-nights/2026-11-14/
LOCATION:CITY CENTER\, 1000 CITY CENTER CIR\, PORT ORANGE\, FL\, 32129\, United States
CATEGORIES:Florida
ATTACH;FMTTYPE=image/jpeg:https://carsandcoffeeevents.com/wp-content/uploads/2023/12/City-Center-Cruise-Nights.jpg
ORGANIZER;CN="East Coast Cruisers":MAILTO:eastcoastcruisersnc@gmail.com
END:VEVENT
END:VCALENDAR