BEGIN:VCALENDAR
VERSION:2.0
PRODID:-//Cars and Coffee Events - ECPv6.15.20//NONSGML v1.0//EN
CALSCALE:GREGORIAN
METHOD:PUBLISH
X-WR-CALNAME:Cars and Coffee Events
X-ORIGINAL-URL:https://carsandcoffeeevents.com
X-WR-CALDESC:Events for Cars and Coffee Events
REFRESH-INTERVAL;VALUE=DURATION:PT1H
X-Robots-Tag:noindex
X-PUBLISHED-TTL:PT1H
BEGIN:VTIMEZONE
TZID:America/Chicago
BEGIN:DAYLIGHT
TZOFFSETFROM:-0600
TZOFFSETTO:-0500
TZNAME:CDT
DTSTART:20250309T080000
END:DAYLIGHT
BEGIN:STANDARD
TZOFFSETFROM:-0500
TZOFFSETTO:-0600
TZNAME:CST
DTSTART:20251102T070000
END:STANDARD
BEGIN:DAYLIGHT
TZOFFSETFROM:-0600
TZOFFSETTO:-0500
TZNAME:CDT
DTSTART:20260308T080000
END:DAYLIGHT
BEGIN:STANDARD
TZOFFSETFROM:-0500
TZOFFSETTO:-0600
TZNAME:CST
DTSTART:20261101T070000
END:STANDARD
BEGIN:DAYLIGHT
TZOFFSETFROM:-0600
TZOFFSETTO:-0500
TZNAME:CDT
DTSTART:20270314T080000
END:DAYLIGHT
BEGIN:STANDARD
TZOFFSETFROM:-0500
TZOFFSETTO:-0600
TZNAME:CST
DTSTART:20271107T070000
END:STANDARD
END:VTIMEZONE
BEGIN:VTIMEZONE
TZID:America/Los_Angeles
BEGIN:DAYLIGHT
TZOFFSETFROM:-0800
TZOFFSETTO:-0700
TZNAME:PDT
DTSTART:20250309T100000
END:DAYLIGHT
BEGIN:STANDARD
TZOFFSETFROM:-0700
TZOFFSETTO:-0800
TZNAME:PST
DTSTART:20251102T090000
END:STANDARD
BEGIN:DAYLIGHT
TZOFFSETFROM:-0800
TZOFFSETTO:-0700
TZNAME:PDT
DTSTART:20260308T100000
END:DAYLIGHT
BEGIN:STANDARD
TZOFFSETFROM:-0700
TZOFFSETTO:-0800
TZNAME:PST
DTSTART:20261101T090000
END:STANDARD
BEGIN:DAYLIGHT
TZOFFSETFROM:-0800
TZOFFSETTO:-0700
TZNAME:PDT
DTSTART:20270314T100000
END:DAYLIGHT
BEGIN:STANDARD
TZOFFSETFROM:-0700
TZOFFSETTO:-0800
TZNAME:PST
DTSTART:20271107T090000
END:STANDARD
END:VTIMEZONE
BEGIN:VTIMEZONE
TZID:America/New_York
BEGIN:DAYLIGHT
TZOFFSETFROM:-0500
TZOFFSETTO:-0400
TZNAME:EDT
DTSTART:20250309T070000
END:DAYLIGHT
BEGIN:STANDARD
TZOFFSETFROM:-0400
TZOFFSETTO:-0500
TZNAME:EST
DTSTART:20251102T060000
END:STANDARD
BEGIN:DAYLIGHT
TZOFFSETFROM:-0500
TZOFFSETTO:-0400
TZNAME:EDT
DTSTART:20260308T070000
END:DAYLIGHT
BEGIN:STANDARD
TZOFFSETFROM:-0400
TZOFFSETTO:-0500
TZNAME:EST
DTSTART:20261101T060000
END:STANDARD
BEGIN:DAYLIGHT
TZOFFSETFROM:-0500
TZOFFSETTO:-0400
TZNAME:EDT
DTSTART:20270314T070000
END:DAYLIGHT
BEGIN:STANDARD
TZOFFSETFROM:-0400
TZOFFSETTO:-0500
TZNAME:EST
DTSTART:20271107T060000
END:STANDARD
END:VTIMEZONE
BEGIN:VTIMEZONE
TZID:America/Phoenix
BEGIN:STANDARD
TZOFFSETFROM:-0700
TZOFFSETTO:-0700
TZNAME:MST
DTSTART:20250101T000000
END:STANDARD
END:VTIMEZONE
BEGIN:VTIMEZONE
TZID:America/Denver
BEGIN:DAYLIGHT
TZOFFSETFROM:-0700
TZOFFSETTO:-0600
TZNAME:MDT
DTSTART:20250309T090000
END:DAYLIGHT
BEGIN:STANDARD
TZOFFSETFROM:-0600
TZOFFSETTO:-0700
TZNAME:MST
DTSTART:20251102T080000
END:STANDARD
BEGIN:DAYLIGHT
TZOFFSETFROM:-0700
TZOFFSETTO:-0600
TZNAME:MDT
DTSTART:20260308T090000
END:DAYLIGHT
BEGIN:STANDARD
TZOFFSETFROM:-0600
TZOFFSETTO:-0700
TZNAME:MST
DTSTART:20261101T080000
END:STANDARD
BEGIN:DAYLIGHT
TZOFFSETFROM:-0700
TZOFFSETTO:-0600
TZNAME:MDT
DTSTART:20270314T090000
END:DAYLIGHT
BEGIN:STANDARD
TZOFFSETFROM:-0600
TZOFFSETTO:-0700
TZNAME:MST
DTSTART:20271107T080000
END:STANDARD
END:VTIMEZONE
BEGIN:VEVENT
DTSTART;TZID=America/Chicago:20261101T190000
DTEND;TZID=America/Chicago:20261101T220000
DTSTAMP:20260424T113343
CREATED:20260328T114434Z
LAST-MODIFIED:20260328T114434Z
UID:10195772-1793559600-1793570400@carsandcoffeeevents.com
SUMMARY:Gears & Grounds Car Meet
DESCRIPTION:Join us for GEARS & GROUNDS at The Shop Club Houston—an incredible morning celebration that brings car enthusiasts together for an unforgettable automotive experience. \nDiscover an impressive variety of rides\, from classic beauties and high-performance sports cars to exotic supercars and race-bred machines. Whether you’re passionate about imports\, lifted trucks\, slammed rides\, or anything in between\, you’ll find something to admire. \nWe gather every 1st Saturday of the month from 8am to 10am at 13150 Breton Ridge St\, Houston\, TX 77070. Want a VIP spot? Simply message SpeedAdvocates@gmail.com to secure your premium location. \nPlease help us maintain a respectful atmosphere by avoiding burnouts\, loud music\, and excessive revving. Let’s keep this amazing venue welcoming for everyone!
URL:https://carsandcoffeeevents.com/event/gears-grounds-car-meet/2026-11-01/
LOCATION:The Shop Club Houston\, 13150 Breton Ridge Street\, Houston\, Texas\, 13150\, United States
CATEGORIES:Texas
ATTACH;FMTTYPE=image/png:https://carsandcoffeeevents.com/wp-content/uploads/2026/03/Untitled-49-600x400-2.png
END:VEVENT
BEGIN:VEVENT
DTSTART;TZID=America/Los_Angeles:20261102T170000
DTEND;TZID=America/Los_Angeles:20261102T190000
DTSTAMP:20260424T113343
CREATED:20240515T142718Z
LAST-MODIFIED:20240515T142718Z
UID:10105907-1793638800-1793646000@carsandcoffeeevents.com
SUMMARY:Monday Madness @ Mr. D's Diner
DESCRIPTION:Every monday nigth from 5-7 \nMuscle cars\, classics\, hot rods\, trucks – all are welcome.
URL:https://carsandcoffeeevents.com/event/monday-madness-mr-ds-diner/2026-11-02/
LOCATION:Mr. D’s Diner\, 126 Yorba Linda Blvd.\, Placentia\, CA\, 92870
CATEGORIES:California
ATTACH;FMTTYPE=image/jpeg:https://carsandcoffeeevents.com/wp-content/uploads/2024/05/Monday-Madness-@-Mr.-Ds-Diner.jpg
END:VEVENT
BEGIN:VEVENT
DTSTART;TZID=America/New_York:20261102T170000
DTEND;TZID=America/New_York:20261102T200000
DTSTAMP:20260424T113343
CREATED:20241203T151927Z
LAST-MODIFIED:20241203T151927Z
UID:10117053-1793638800-1793649600@carsandcoffeeevents.com
SUMMARY:Cruise night at Mighty Joe's
DESCRIPTION:Great food. Great people. Great cars. \nLook for the famous Mighty Joe Gorilla.
URL:https://carsandcoffeeevents.com/event/cruise-night-at-mighty-joes/2026-11-02/
LOCATION:Mighty Joe’s Deli and Grill\, 1231 Rt.206\, Shamong\, NJ\, 08088\, United States
CATEGORIES:New Jersey
ATTACH;FMTTYPE=image/jpeg:https://carsandcoffeeevents.com/wp-content/uploads/2024/12/Cruise-night-at-Mighty-Joes.jpg
END:VEVENT
BEGIN:VEVENT
DTSTART;TZID=America/New_York:20261102T170000
DTEND;TZID=America/New_York:20261102T200000
DTSTAMP:20260424T113343
CREATED:20250120T224248Z
LAST-MODIFIED:20250120T224248Z
UID:10132075-1793638800-1793649600@carsandcoffeeevents.com
SUMMARY:JB's Diner Cruise Night
DESCRIPTION:Cruisers receive 10% off food purchases!
URL:https://carsandcoffeeevents.com/event/jbs-diner-cruise-night/2026-11-02/
LOCATION:JB’s on 33 Diner\, 1320 RT 33\, Farmingdale\, NJ\, 07727\, United States
CATEGORIES:New Jersey
ATTACH;FMTTYPE=image/jpeg:https://carsandcoffeeevents.com/wp-content/uploads/2023/11/Generic-Cruise-Night.jpg
END:VEVENT
BEGIN:VEVENT
DTSTART;TZID=America/New_York:20261102T170000
DTEND;TZID=America/New_York:20261102T210000
DTSTAMP:20260424T113343
CREATED:20240612T142943Z
LAST-MODIFIED:20240612T142943Z
UID:10110349-1793638800-1793653200@carsandcoffeeevents.com
SUMMARY:Lake View Grill Monday Meet
DESCRIPTION:The Lake View Grill car meets will be hosted at Long Islands newest lake front restaurant. Car meet attendees will receive 10% off in the restaurant and park for a chance to experience all the attractions at Scott’s Pointe.  We welcome everything from muscle cars to exotics to import to trucks to bikes! Go kart track opening soon.
URL:https://carsandcoffeeevents.com/event/lake-view-grill-monday-meet/2026-11-02/
LOCATION:Lake View Grill\, 5835 Middle Country Road\, Calverton\, NY\, 11933\, United States
CATEGORIES:New York
ATTACH;FMTTYPE=image/png:https://carsandcoffeeevents.com/wp-content/uploads/2024/06/car-meet-flyer.png
ORGANIZER;CN="@scottspointe":MAILTO:events@scottspointe.com
END:VEVENT
BEGIN:VEVENT
DTSTART;TZID=America/Los_Angeles:20261102T180000
DTEND;TZID=America/Los_Angeles:20261102T200000
DTSTAMP:20260424T113343
CREATED:20231224T142716Z
LAST-MODIFIED:20231224T142716Z
UID:10091032-1793642400-1793649600@carsandcoffeeevents.com
SUMMARY:Drag'n Nights Motor Mondays Car Show
DESCRIPTION:Come join us the first Monday of every month for classic cars. All cars welcome. Custom beer mug trophy\, 50/50 raffle\, pint specials and exclusive deli menu
URL:https://carsandcoffeeevents.com/event/dragn-nights-motor-mondays-car-show/2026-11-02/
LOCATION:All-American Bew Works\, 5120 E. La Palma Ave\, #103\, Anaheim\, CA\, 92807\, United States
CATEGORIES:California
ATTACH;FMTTYPE=image/jpeg:https://carsandcoffeeevents.com/wp-content/uploads/2023/11/Generic-Cruise-Night.jpg
END:VEVENT
BEGIN:VEVENT
DTSTART;TZID=America/Los_Angeles:20261102T180000
DTEND;TZID=America/Los_Angeles:20261102T200000
DTSTAMP:20260424T113343
CREATED:20240517T122000Z
LAST-MODIFIED:20240517T122000Z
UID:10108872-1793642400-1793649600@carsandcoffeeevents.com
SUMMARY:Drag'n Knights Motor Monday
DESCRIPTION:Come join us the first Monday of every month for classic cars (all cars welcome)\, custom beer mug trophy\, 50/50 raffle\, pint specials and exclusive deli menu.
URL:https://carsandcoffeeevents.com/event/dragn-knights-motor-monday/2026-11-02/
LOCATION:All-American Brew Works\, 5120 E. La Palma Ave. #103\, Anaheim\, CA\, 92807
CATEGORIES:California
ATTACH;FMTTYPE=image/jpeg:https://carsandcoffeeevents.com/wp-content/uploads/2023/11/Generic-Cruise-Night.jpg
END:VEVENT
BEGIN:VEVENT
DTSTART;TZID=America/Los_Angeles:20261102T180000
DTEND;TZID=America/Los_Angeles:20261102T210000
DTSTAMP:20260424T113343
CREATED:20231027T013417Z
LAST-MODIFIED:20231027T013417Z
UID:10018873-1793642400-1793653200@carsandcoffeeevents.com
SUMMARY:Modelo Mondays
DESCRIPTION:Free car show event that takes place every Monday. Family-friendly with food\, music\, and classic cars and trucks.
URL:https://carsandcoffeeevents.com/event/modelo-mondays/2026-11-02/
LOCATION:Larrys Pizza\, 926 W. Orangethorpe Avenue\, Fullerton\, CA\, 92832\, United States
CATEGORIES:California
END:VEVENT
BEGIN:VEVENT
DTSTART;TZID=America/Los_Angeles:20261102T180000
DTEND;TZID=America/Los_Angeles:20261102T210000
DTSTAMP:20260424T113343
CREATED:20231128T215724Z
LAST-MODIFIED:20231128T215724Z
UID:10051106-1793642400-1793653200@carsandcoffeeevents.com
SUMMARY:Jim's #2 Char Broiled Burgers Cruise Night
DESCRIPTION:1st Monday of the-Month(6pm to close) Jim’s #2 Char-Broiled Burgers 1601 Anaheim ST Wilmington CA
URL:https://carsandcoffeeevents.com/event/jims-2-char-broiled-burgers-cruise-night/2026-11-02/
LOCATION:Jim’s #2 Char-Broiled Burgers\, 1601 Anaheim\, Wilmington\, CA\, 90744\, United States
CATEGORIES:California
ATTACH;FMTTYPE=image/jpeg:https://carsandcoffeeevents.com/wp-content/uploads/2023/11/Jims-2-Cruise-Night.jpg
ORGANIZER;CN="Jim's #2 Char-Broiled Burgers":MAILTO:https://jimsburgers2.com
END:VEVENT
BEGIN:VEVENT
DTSTART;TZID=America/Los_Angeles:20261103T060000
DTEND;TZID=America/Los_Angeles:20261103T233000
DTSTAMP:20260424T113343
CREATED:20231027T021919Z
LAST-MODIFIED:20231027T021919Z
UID:10021726-1793685600-1793748600@carsandcoffeeevents.com
SUMMARY:Octane Tuesdays
DESCRIPTION:Octane Tuesdays are the first Tuesday of every month\, from 6 pm-11:30 pm\, at Cheba Hut located at 2550 South Rainbow Boulevard\, Las Vegas\, Nevada 89146. \n\nA family-friendly car meet is open to all clubs and individuals.\nAll Years\, Makes\, and Models of cars\, trucks\, and bikes welcome!\nCome show off your fresh ride and enjoy some fresh toasted subs and libations.\nFeaturing Secret Stash Menu and Bar Specials
URL:https://carsandcoffeeevents.com/event/octane-tuesdays/2026-11-03/
LOCATION:Cheba Hut\, 2550 South Rainbow Boulevard\, Las Vegas\, NV\, 89146\, United States
CATEGORIES:Nevada
ORGANIZER;CN="Cheba Hut":MAILTO:sahara@chebahut.com
END:VEVENT
BEGIN:VEVENT
DTSTART;TZID=America/New_York:20261103T140000
DTEND;TZID=America/New_York:20261103T170000
DTSTAMP:20260424T113343
CREATED:20231203T131719Z
LAST-MODIFIED:20231203T131719Z
UID:10069621-1793714400-1793725200@carsandcoffeeevents.com
SUMMARY:Car Shot at Hurricanes Tavares
DESCRIPTION:Come on out to Hurricanes in Tavares for our FREE Tuesday Car Show! Tuesdays from 2-5 pm. Central Florida’s FREE Tuesday Afternoon Car Show! FREE and open to ALL makes\, models\, and years of cars and light trucks! Two $25.00 Hurricane Gift Cards awarded (2 classes: 1900-1980 and 1981-present) 10% off Hurricanes food during the event! Bring your Hot Rod\, classic\, antique\, muscle car\, or exotic for a beautiful day by the water!
URL:https://carsandcoffeeevents.com/event/car-shot-at-hurricanes-tavares/2026-11-03/
LOCATION:Hurricanes Dockside Grill\, 3351 W. Burleigh Blvd\, Tavares\, FL\, 32778\, United States
CATEGORIES:Florida
ATTACH;FMTTYPE=image/jpeg:https://carsandcoffeeevents.com/wp-content/uploads/2023/12/Car-Shot-at-Hurricanes-Tavares.jpg
END:VEVENT
BEGIN:VEVENT
DTSTART;TZID=America/Phoenix:20261103T160000
DTEND;TZID=America/Phoenix:20261103T210000
DTSTAMP:20260424T113343
CREATED:20260321T124900Z
LAST-MODIFIED:20260321T124900Z
UID:10188540-1793721600-1793739600@carsandcoffeeevents.com
SUMMARY:The Maricopa Cruisers’ Weekly Cruise-In
DESCRIPTION:The Maricopa Cruisers invite you to rev up your engines for their weekly gathering every Tuesday evening. Join fellow car enthusiasts from 4pm to 9pm at the Burger King located at 20699 N. John Wayne Parkway in Maricopa\, Arizona. \nWhether you’re driving a classic muscle car\, a restored vintage beauty\, or simply love admiring automotive craftsmanship\, this cruise-in offers the perfect opportunity to connect with like-minded enthusiasts in a relaxed\, friendly atmosphere.
URL:https://carsandcoffeeevents.com/event/the-maricopa-cruisers-weekly-cruise-in/2026-11-03/
LOCATION:Burger King\, 20699 N\, Arizona\, United States
CATEGORIES:Arizona
ATTACH;FMTTYPE=image/jpeg:https://carsandcoffeeevents.com/wp-content/uploads/2025/11/Generic-Cruise-Night.jpg
END:VEVENT
BEGIN:VEVENT
DTSTART;TZID=America/Los_Angeles:20261103T170000
DTEND;TZID=America/Los_Angeles:20261103T190000
DTSTAMP:20260424T113343
CREATED:20231027T012355Z
LAST-MODIFIED:20231027T012355Z
UID:10017676-1793725200-1793732400@carsandcoffeeevents.com
SUMMARY:Hot Rods Unlimited Tuesday Night In-N-Out Burger Cruise-In
DESCRIPTION:Come join Hot Rods Unlimited for our Tuesday Night Cruise-In \nEvery Tuesday night  5:pm – 7:pm \nIN-N-OUT Burger on El Toro Rd. @ 5 frwy (Laguna Hills Mall) \n24001 Avenida De La Carlota\, Laguna Hills\, CA 92653 \nAll Cars Welcome!
URL:https://carsandcoffeeevents.com/event/hot-rods-unlimited-tuesday-night-in-n-out-burger-cruise-in/2026-11-03/
LOCATION:Laguna Hills In-N-Out Burger\, 24001 Avenida De La Carlota\, Laguna Hills\, CA\, 92653\, United States
CATEGORIES:California
END:VEVENT
BEGIN:VEVENT
DTSTART;TZID=America/Denver:20261103T170000
DTEND;TZID=America/Denver:20261103T190000
DTSTAMP:20260424T113343
CREATED:20231129T140954Z
LAST-MODIFIED:20231129T140954Z
UID:10055711-1793725200-1793732400@carsandcoffeeevents.com
SUMMARY:Costa Vida Car Show
DESCRIPTION:All makes & models are welcome. $2.00 Taco Tuesday
URL:https://carsandcoffeeevents.com/event/costa-vida-car-show/2026-11-03/
LOCATION:Costa Vida\, 73rd & Bell\, Glendale\, AZ\, 85308\, United States
CATEGORIES:Arizona
END:VEVENT
BEGIN:VEVENT
DTSTART;TZID=America/New_York:20261103T170000
DTEND;TZID=America/New_York:20261103T190000
DTSTAMP:20260424T113343
CREATED:20241203T130808Z
LAST-MODIFIED:20241203T130808Z
UID:10116527-1793725200-1793732400@carsandcoffeeevents.com
SUMMARY:Evergreen Dairy Bar Cruise Nights
DESCRIPTION:5pm to CLOSE year round \nEvergreen Dairy Bar\, Southampton\, NJ
URL:https://carsandcoffeeevents.com/event/evergreen-dairy-bar-cruise-nights/2026-11-03/
LOCATION:Evergreen Dairy Bar\, 1643 NJ70\, Southampton Township\, NJ\, 08088\, United States
CATEGORIES:New Jersey
ATTACH;FMTTYPE=image/jpeg:https://carsandcoffeeevents.com/wp-content/uploads/2024/12/Evergreen-Dairy-Bar-Cruise-Nights.jpg
END:VEVENT
BEGIN:VEVENT
DTSTART;TZID=America/New_York:20261103T170000
DTEND;TZID=America/New_York:20261103T190000
DTSTAMP:20260424T113343
CREATED:20241203T152836Z
LAST-MODIFIED:20241203T152836Z
UID:10117315-1793725200-1793732400@carsandcoffeeevents.com
SUMMARY:Tuesday Cruisers at Smithfields Chicken N Barbecue
DESCRIPTION:Cruising each and every Tuesday afternoon At Smithfied’s Chicken N Barbecue Rockingham NC 5-7 pm
URL:https://carsandcoffeeevents.com/event/tuesday-cruisers-at-smithfields-chicken-n-barbecue/2026-11-03/
LOCATION:Smithfieds Chicken N Barbecue\, 718 US 74 Business\, Rockingham\, NC\, 28379\, United States
CATEGORIES:North Carolina
ATTACH;FMTTYPE=image/jpeg:https://carsandcoffeeevents.com/wp-content/uploads/2024/12/Tuesday-Cruisers-at-Smithfields-Chicken-N-Barbecue.jpg
END:VEVENT
BEGIN:VEVENT
DTSTART;TZID=America/New_York:20261103T170000
DTEND;TZID=America/New_York:20261103T190000
DTSTAMP:20260424T113343
CREATED:20250328T213133Z
LAST-MODIFIED:20250328T213133Z
UID:10147425-1793725200-1793732400@carsandcoffeeevents.com
SUMMARY:Evergreen Dairy Bar Cruise Nights
DESCRIPTION:5pm to CLOSE – Evergreen Dairy Bar\, Southampton
URL:https://carsandcoffeeevents.com/event/evergreen-dairy-bar-cruise-nights-2/2026-11-03/
LOCATION:Evergreen Dairy Bar\, 1643 NJ70\, Southampton Township\, NJ\, 08088\, United States
CATEGORIES:New Jersey
ATTACH;FMTTYPE=image/jpeg:https://carsandcoffeeevents.com/wp-content/uploads/2024/05/Generic-4.jpg
END:VEVENT
BEGIN:VEVENT
DTSTART;TZID=America/Los_Angeles:20261103T170000
DTEND;TZID=America/Los_Angeles:20261103T190000
DTSTAMP:20260424T113343
CREATED:20260402T193254Z
LAST-MODIFIED:20260402T193254Z
UID:10196760-1793725200-1793732400@carsandcoffeeevents.com
SUMMARY:Tuesday Night Cruise-In
DESCRIPTION:  \nGet ready for an incredible weekly car meet hosted by Hot Rods Unlimited at the legendary In-N-Out Burger! You’ll find us at 24001 Avenida De La Carlota\, conveniently located just off the 5 Freeway in Laguna Hills. This spot offers the perfect combination of great food and amazing automotive culture\, making it an ideal gathering place for car enthusiasts. \nWhether you’re a local gear head or just cruising through Southern California\, this weekly event is your chance to show off your ride while enjoying In-N-Out’s famous burgers. It’s the kind of laid-back evening where great cars and good food come together naturally. \nCome connect with fellow enthusiasts who share your passion for all things automotive. Want to chat about your latest modifications? Looking for inspiration for your next project? You’ll find plenty of knowledgeable car lovers eager to share stories and swap tips. Keep an eye out for the club officers – they’re usually in attendance and would love to meet you! \nThe atmosphere at Hot Rods Unlimited Car Meet is refreshingly welcoming and unpretentious. We celebrate automotive diversity here\, so you’ll see an incredible mix of rides: thundering American muscle cars\, classic hot rods\, jaw-dropping custom builds\, sleek motorcycles\, and impressive trucks. \nNo matter what you drive\, you belong here. Rolling in with a pristine muscle car? Awesome. Cruising up in a lowrider? Perfect. Bringing out a rare classic? We can’t wait to see it. This gathering is all about inclusivity and shared passion for exceptional vehicles. \n 
URL:https://carsandcoffeeevents.com/event/tuesday-night-cruise-in/2026-11-03/
LOCATION:In-N-Out Burger  Avenida De La Carlota\, 24001 Avenida De La Carlota\, Laguna Hills\, CA\, 92653\, United States
CATEGORIES:California
ATTACH;FMTTYPE=image/jpeg:https://carsandcoffeeevents.com/wp-content/uploads/2025/11/Generic-Cruise-Night.jpg
END:VEVENT
BEGIN:VEVENT
DTSTART;TZID=America/Los_Angeles:20261103T173000
DTEND;TZID=America/Los_Angeles:20261103T203000
DTSTAMP:20260424T113343
CREATED:20231027T142110Z
LAST-MODIFIED:20231126T130112Z
UID:10026796-1793727000-1793737800@carsandcoffeeevents.com
SUMMARY:Tuesday night car show
DESCRIPTION:come join us for our Tuesday night car show and cruise in.
URL:https://carsandcoffeeevents.com/event/tuesday-night-car-show/2026-11-03/
LOCATION:Pioneer Market Waterford\, 12138 Yosemite Blvd\, Waterford\, CA\, 95386\, United States
CATEGORIES:California
END:VEVENT
BEGIN:VEVENT
DTSTART;TZID=America/Chicago:20261103T173000
DTEND;TZID=America/Chicago:20261103T210000
DTSTAMP:20260424T113343
CREATED:20231027T143008Z
LAST-MODIFIED:20231027T143008Z
UID:10028493-1793727000-1793739600@carsandcoffeeevents.com
SUMMARY:Whataburger (Henderson)
DESCRIPTION:1st Tuesday ??Cruise Night 5:30p.m.-9:00p.m. Henderson\, Texas? ?Whataburger Parking Lot?
URL:https://carsandcoffeeevents.com/event/whataburger-henderson/2026-11-03/
LOCATION:Whataburger (Henderson)\, 630 U.S. 79\, Henderson\, TX\, 75654\, United States
CATEGORIES:Texas
END:VEVENT
BEGIN:VEVENT
DTSTART;TZID=America/Los_Angeles:20261103T180000
DTEND;TZID=America/Los_Angeles:20261103T200000
DTSTAMP:20260424T113343
CREATED:20231027T010516Z
LAST-MODIFIED:20231027T010516Z
UID:10016120-1793728800-1793736000@carsandcoffeeevents.com
SUMMARY:Granada Hills Cruz-In
DESCRIPTION:EVERY TUESDAY EVENING [since 2013] as a weekly cruise night\, The Granada Hills Cruz-In continues to be a middle-o’the-workweek mainstay in northern part of The San Fernando Valley! We encourage you to bring out your classics and join us each Tuesday from 6:p.m. on into the evening as we park just off Chatsworth Street (east of Lindley Ave.) in between Baskin Robbins and Carl’s Jr. Bring a chair and sit with friends & fellow car enthusiasts as we wind down the workday; grab a bite to eat at one of many local eateries; or get some shopping done at nearby stores. PLEASE respect the property\, businesses & people on-site by NOT revving your motor\, NOT blasting your stereo and NOT doing burn-outs; such immature behavior threatens to shut down any car-related event (even ours!) by local law enforcement… so don’t do it! Just cruise in casually\, relax with the “regulars\,” enjoy a calm Tuesday evening with the rest of us and we’ll see you there!
URL:https://carsandcoffeeevents.com/event/granada-hills-cruz-in/2026-11-03/
LOCATION:Carl’s Jr Granada Hills\, 18090 Chatsworth Street\, Granada Hills\, CA\, 91344\, United States
CATEGORIES:California
END:VEVENT
BEGIN:VEVENT
DTSTART;TZID=America/Los_Angeles:20261103T180000
DTEND;TZID=America/Los_Angeles:20261103T200000
DTSTAMP:20260424T113343
CREATED:20231027T142133Z
LAST-MODIFIED:20231027T142133Z
UID:10027057-1793728800-1793736000@carsandcoffeeevents.com
SUMMARY:Tuesday Night Cruise-In Laguna Hills
DESCRIPTION:Come join Hot Rods Unlimited for a Tuesday Night Cruise-In\nEvery Tuesday 6:pm – 8:pm\nIn-N-Out Burger on El Toro Rd. @ 5 frwy\n24001 Avenida De La Carlota\, Laguna Hills\, CA 92653\nAll Cars Welcome!
URL:https://carsandcoffeeevents.com/event/tuesday-night-cruise-in-laguna-hills/2026-11-03/
LOCATION:Laguna Hills In-N-Out Burger\, 24001 Avenida De La Carlota\, Laguna Hills\, CA\, 92653\, United States
CATEGORIES:California
END:VEVENT
BEGIN:VEVENT
DTSTART;TZID=America/Los_Angeles:20261103T180000
DTEND;TZID=America/Los_Angeles:20261103T200000
DTSTAMP:20260424T113343
CREATED:20231027T142811Z
LAST-MODIFIED:20231027T142811Z
UID:10027510-1793728800-1793736000@carsandcoffeeevents.com
SUMMARY:Waterford Hot Rods and Classics
DESCRIPTION:The Waterford Hot Rods and Classics Tuesday Night Car Show is every Tuesday at 6pm at Pioneer Market\, 12138 Yosemite Blvd. \nIt’s that time again\, folks! Waterford Hot Rods and Classics will be gathering in the Pioneer Market shopping center parking lot at 6:00 in the evening. Bring out your car and your happy face for an evening of fellowship\, and smiles!
URL:https://carsandcoffeeevents.com/event/waterford-hot-rods-and-classics/2026-11-03/
LOCATION:Pioneer Market – Waterford\, 12138 Yosemite Blvd\, Waterford\, CA\, 95386\, United States
CATEGORIES:California
END:VEVENT
BEGIN:VEVENT
DTSTART;TZID=America/Chicago:20261103T180000
DTEND;TZID=America/Chicago:20261103T203000
DTSTAMP:20260424T113343
CREATED:20231130T233824Z
LAST-MODIFIED:20231130T233824Z
UID:10059095-1793728800-1793737800@carsandcoffeeevents.com
SUMMARY:SDLCRK Car Show
DESCRIPTION:Swing on my for the monthly SDLCRK Car Show taking place on the evenings of the first Tuesday of every month! Food truck\, vendors\, and of course some beautiful rides! Hosted at the SaddleCreek Amenity Center.
URL:https://carsandcoffeeevents.com/event/sdlcrk-car-show/2026-11-03/
LOCATION:SaddleCreek Amenity Center\, 8620 Daisy Cutter Xing\, Georgetown\, TX\, 78626\, United States
CATEGORIES:Texas
ATTACH;FMTTYPE=image/jpeg:https://carsandcoffeeevents.com/wp-content/uploads/2023/11/SDLCRK-Car-Show.jpg
END:VEVENT
BEGIN:VEVENT
DTSTART;TZID=America/Los_Angeles:20261103T200000
DTEND;TZID=America/Los_Angeles:20261103T230000
DTSTAMP:20260424T113343
CREATED:20231127T223012Z
LAST-MODIFIED:20231127T223012Z
UID:10045181-1793736000-1793746800@carsandcoffeeevents.com
SUMMARY:Tuesdays at Ventura Cove Park 'n Chill
DESCRIPTION:You’re invited to a family park n’ chill CARS\, TRUCKS\, BIKES & VENDORS WELCOME 8pm to 11pm 3211 Gleason Rd San Diego 92109
URL:https://carsandcoffeeevents.com/event/tuesdays-at-ventura-cove-park-n-chill/2026-11-03/
LOCATION:Ventura Cove\, 3211 Gleason Rd\, San Diego\, CA\, 92109\, United States
CATEGORIES:California
ATTACH;FMTTYPE=image/jpeg:https://carsandcoffeeevents.com/wp-content/uploads/2023/11/Tuesdays-at-Ventura-Cove-Park-n-Chill.jpg
END:VEVENT
BEGIN:VEVENT
DTSTART;TZID=America/Los_Angeles:20261104T080000
DTEND;TZID=America/Los_Angeles:20261104T170000
DTSTAMP:20260424T113343
CREATED:20231027T012450Z
LAST-MODIFIED:20231027T012450Z
UID:10017816-1793779200-1793811600@carsandcoffeeevents.com
SUMMARY:In and Out Burger Cruise
DESCRIPTION:The In and Out Burger Cruise is the 1st Wednesday of every month year round!  The Cruise is sponsored by Flat 4 Fetish Car Club and is open to all Volkswagens!!!  The Cruise takes place at 6 pm from In and Out Burger located at 3040 AZ-69\, Prescott\, AZ!  Fun for the whole family!
URL:https://carsandcoffeeevents.com/event/in-and-out-burger-cruise/2026-11-04/
LOCATION:In and Out Burger Prescott AZ\, 3040 AZ-69\, Prescott\, AZ\, 86301\, United States
CATEGORIES:Arizona
END:VEVENT
BEGIN:VEVENT
DTSTART;TZID=America/New_York:20261104T160000
DTEND;TZID=America/New_York:20261104T193000
DTSTAMP:20260424T113343
CREATED:20250719T142939Z
LAST-MODIFIED:20250719T142939Z
UID:10160940-1793808000-1793820600@carsandcoffeeevents.com
SUMMARY:Wyckoff Reformed Church Cruise Night
DESCRIPTION:This cruise night happens every Wed afternoon/evening until the first snow. All cars/years welcome to join. From 4pm-7:30pm. Free. \n580 Wyckoff Ave\, Wyckoff\, NJ
URL:https://carsandcoffeeevents.com/event/wyckoff-reformed-church-cruise-night/2026-11-04/
LOCATION:Wyckoff Reformed Church\, 580 Wyckoff Ave\,\, Wyckoff\, NJ\, 07481\, United States
CATEGORIES:New Jersey
END:VEVENT
BEGIN:VEVENT
DTSTART;TZID=America/Los_Angeles:20261104T160000
DTEND;TZID=America/Los_Angeles:20261104T200000
DTSTAMP:20260424T113343
CREATED:20231026T212426Z
LAST-MODIFIED:20231026T212426Z
UID:10003459-1793808000-1793822400@carsandcoffeeevents.com
SUMMARY:California Burgers Cruise-In
DESCRIPTION:All Vehicles Welcome!\nCome try the best burgers in town and check out all the cool Classic Cars!\nEvery Wednesday at 4pm all year long!\nRaffles\, Prizes and “Best of Show Award”
URL:https://carsandcoffeeevents.com/event/california-burgers-cruise-in/2026-11-04/
LOCATION:California Burgers – Citrus Heights\, 8537 Auburn Blvd\, Citrus Heights\, CA\, 95610\, United States
CATEGORIES:California
END:VEVENT
BEGIN:VEVENT
DTSTART;TZID=America/Chicago:20261104T160000
DTEND;TZID=America/Chicago:20261104T200000
DTSTAMP:20260424T113343
CREATED:20231026T235628Z
LAST-MODIFIED:20231026T235628Z
UID:10011708-1793808000-1793822400@carsandcoffeeevents.com
SUMMARY:Dog Pound Cruise In
DESCRIPTION:Cruise night every Wedensday at THE DOG POUND. \n4 TIL CLOSE AT 8. \n806 MAMMOTH CAVE ROAD CAVE CITY KY 270 773 8550
URL:https://carsandcoffeeevents.com/event/dog-pound-cruise-in/2026-11-04/
LOCATION:The Dog Pound\, 810 Sanders Street\, Cave City\, KY\, 42127\, United States
CATEGORIES:Kentucky
END:VEVENT
BEGIN:VEVENT
DTSTART;TZID=America/New_York:20261104T160000
DTEND;TZID=America/New_York:20261104T200000
DTSTAMP:20260424T113343
CREATED:20231104T110850Z
LAST-MODIFIED:20231104T110850Z
UID:10032494-1793808000-1793822400@carsandcoffeeevents.com
SUMMARY:Louie's Town Grill Weekly Cruise Night
DESCRIPTION:Great Food \nGreat Music \nGreat Cars \nFamily Fun \nWeather permitting
URL:https://carsandcoffeeevents.com/event/louies-town-grill-weekly-cruise-night/2026-11-04/
LOCATION:Louie’s Towne Grill\, 79 N. Main Street\, Mount Clemens\, MI\, 48043\, United States
CATEGORIES:Michigan
ATTACH;FMTTYPE=image/jpeg:https://carsandcoffeeevents.com/wp-content/uploads/2023/11/Louies-Town-Grill-Cruise-Night.jpg
END:VEVENT
END:VCALENDAR