BEGIN:VCALENDAR
VERSION:2.0
PRODID:-//Cars and Coffee Events - ECPv6.15.20//NONSGML v1.0//EN
CALSCALE:GREGORIAN
METHOD:PUBLISH
X-WR-CALNAME:Cars and Coffee Events
X-ORIGINAL-URL:https://carsandcoffeeevents.com
X-WR-CALDESC:Events for Cars and Coffee Events
REFRESH-INTERVAL;VALUE=DURATION:PT1H
X-Robots-Tag:noindex
X-PUBLISHED-TTL:PT1H
BEGIN:VTIMEZONE
TZID:America/Chicago
BEGIN:DAYLIGHT
TZOFFSETFROM:-0600
TZOFFSETTO:-0500
TZNAME:CDT
DTSTART:20300310T080000
END:DAYLIGHT
BEGIN:STANDARD
TZOFFSETFROM:-0500
TZOFFSETTO:-0600
TZNAME:CST
DTSTART:20301103T070000
END:STANDARD
BEGIN:DAYLIGHT
TZOFFSETFROM:-0600
TZOFFSETTO:-0500
TZNAME:CDT
DTSTART:20310309T080000
END:DAYLIGHT
BEGIN:STANDARD
TZOFFSETFROM:-0500
TZOFFSETTO:-0600
TZNAME:CST
DTSTART:20311102T070000
END:STANDARD
BEGIN:DAYLIGHT
TZOFFSETFROM:-0600
TZOFFSETTO:-0500
TZNAME:CDT
DTSTART:20320314T080000
END:DAYLIGHT
BEGIN:STANDARD
TZOFFSETFROM:-0500
TZOFFSETTO:-0600
TZNAME:CST
DTSTART:20321107T070000
END:STANDARD
END:VTIMEZONE
BEGIN:VTIMEZONE
TZID:America/New_York
BEGIN:DAYLIGHT
TZOFFSETFROM:-0500
TZOFFSETTO:-0400
TZNAME:EDT
DTSTART:20300310T070000
END:DAYLIGHT
BEGIN:STANDARD
TZOFFSETFROM:-0400
TZOFFSETTO:-0500
TZNAME:EST
DTSTART:20301103T060000
END:STANDARD
BEGIN:DAYLIGHT
TZOFFSETFROM:-0500
TZOFFSETTO:-0400
TZNAME:EDT
DTSTART:20310309T070000
END:DAYLIGHT
BEGIN:STANDARD
TZOFFSETFROM:-0400
TZOFFSETTO:-0500
TZNAME:EST
DTSTART:20311102T060000
END:STANDARD
BEGIN:DAYLIGHT
TZOFFSETFROM:-0500
TZOFFSETTO:-0400
TZNAME:EDT
DTSTART:20320314T070000
END:DAYLIGHT
BEGIN:STANDARD
TZOFFSETFROM:-0400
TZOFFSETTO:-0500
TZNAME:EST
DTSTART:20321107T060000
END:STANDARD
END:VTIMEZONE
BEGIN:VEVENT
DTSTART;TZID=America/Chicago:20310208T110000
DTEND;TZID=America/Chicago:20310208T150000
DTSTAMP:20260420T101651
CREATED:20231130T153612Z
LAST-MODIFIED:20231130T153612Z
UID:10179144-1928314800-1928329200@carsandcoffeeevents.com
SUMMARY:Saturdays at The Ranch
DESCRIPTION:Come hang out with us here at The Ranch Harley-Davidson & The Ranch RV in College Station\, Texas from 11am- 3pm! Ride OR Drive in! -FREE ICE COLD Adult Beverages*\, Soda\, & Water -Food Truck -DJ Nick Catalina -Vendors -Ride our Harley-Davidson Jumpstart Simulator (no experience required) -Door Prizes & more! As always\, all makes & models are welcome! Cars are welcome too! \n*Adult beverages available only with valid ID\, 21 & older. As always\, please drink responsibly.*
URL:https://carsandcoffeeevents.com/event/saturdays-at-the-ranch/2031-02-08/
LOCATION:The Ranch Harley-Davidson\, 4115 Texas 6 Frontage Road\, College Station\, TX\, 77845\, United States
CATEGORIES:Texas
ATTACH;FMTTYPE=image/jpeg:https://carsandcoffeeevents.com/wp-content/uploads/2023/11/Saturdays-at-The-Ranch.jpg
ORGANIZER;CN="The Ranch Harley-Davidson":MAILTO:marketing@theranchhd.com
END:VEVENT
BEGIN:VEVENT
DTSTART;TZID=America/New_York:20310210T170000
DTEND;TZID=America/New_York:20310210T210000
DTSTAMP:20260420T101651
CREATED:20240612T142943Z
LAST-MODIFIED:20240612T142943Z
UID:10179490-1928509200-1928523600@carsandcoffeeevents.com
SUMMARY:Lake View Grill Monday Meet
DESCRIPTION:The Lake View Grill car meets will be hosted at Long Islands newest lake front restaurant. Car meet attendees will receive 10% off in the restaurant and park for a chance to experience all the attractions at Scott’s Pointe.  We welcome everything from muscle cars to exotics to import to trucks to bikes! Go kart track opening soon.
URL:https://carsandcoffeeevents.com/event/lake-view-grill-monday-meet/2031-02-10/
LOCATION:Lake View Grill\, 5835 Middle Country Road\, Calverton\, NY\, 11933\, United States
CATEGORIES:New York
ATTACH;FMTTYPE=image/png:https://carsandcoffeeevents.com/wp-content/uploads/2024/06/car-meet-flyer.png
ORGANIZER;CN="@scottspointe":MAILTO:events@scottspointe.com
END:VEVENT
BEGIN:VEVENT
DTSTART;TZID=America/New_York:20310212T170000
DTEND;TZID=America/New_York:20310212T210000
DTSTAMP:20260420T101651
CREATED:20231205T233008Z
LAST-MODIFIED:20231205T233008Z
UID:10179574-1928682000-1928696400@carsandcoffeeevents.com
SUMMARY:Weekly Bike vs Car Meet
DESCRIPTION:Join Warriors Ambition for their weekly bike meet vs car meet event. Prizes will be awarded to the most repped club\, group or crew. There will be a DJ\, raffles\, vendors\, and giveaways. Don’t miss out on the fun!
URL:https://carsandcoffeeevents.com/event/weekly-bike-vs-car-meet/2031-02-12/
LOCATION:Warriors Ambition\, 3405 Forum Blvd\, Fort Myers\, FL\, 33905\, United States
CATEGORIES:Florida
ATTACH;FMTTYPE=image/jpeg:https://carsandcoffeeevents.com/wp-content/uploads/2023/12/Weekly-Bike-vs-Car-Meet.jpg
END:VEVENT
BEGIN:VEVENT
DTSTART;TZID=America/Chicago:20310215T110000
DTEND;TZID=America/Chicago:20310215T150000
DTSTAMP:20260420T101651
CREATED:20231130T153612Z
LAST-MODIFIED:20231130T153612Z
UID:10179145-1928919600-1928934000@carsandcoffeeevents.com
SUMMARY:Saturdays at The Ranch
DESCRIPTION:Come hang out with us here at The Ranch Harley-Davidson & The Ranch RV in College Station\, Texas from 11am- 3pm! Ride OR Drive in! -FREE ICE COLD Adult Beverages*\, Soda\, & Water -Food Truck -DJ Nick Catalina -Vendors -Ride our Harley-Davidson Jumpstart Simulator (no experience required) -Door Prizes & more! As always\, all makes & models are welcome! Cars are welcome too! \n*Adult beverages available only with valid ID\, 21 & older. As always\, please drink responsibly.*
URL:https://carsandcoffeeevents.com/event/saturdays-at-the-ranch/2031-02-15/
LOCATION:The Ranch Harley-Davidson\, 4115 Texas 6 Frontage Road\, College Station\, TX\, 77845\, United States
CATEGORIES:Texas
ATTACH;FMTTYPE=image/jpeg:https://carsandcoffeeevents.com/wp-content/uploads/2023/11/Saturdays-at-The-Ranch.jpg
ORGANIZER;CN="The Ranch Harley-Davidson":MAILTO:marketing@theranchhd.com
END:VEVENT
BEGIN:VEVENT
DTSTART;TZID=America/New_York:20310217T170000
DTEND;TZID=America/New_York:20310217T210000
DTSTAMP:20260420T101651
CREATED:20240612T142943Z
LAST-MODIFIED:20240612T142943Z
UID:10179491-1929114000-1929128400@carsandcoffeeevents.com
SUMMARY:Lake View Grill Monday Meet
DESCRIPTION:The Lake View Grill car meets will be hosted at Long Islands newest lake front restaurant. Car meet attendees will receive 10% off in the restaurant and park for a chance to experience all the attractions at Scott’s Pointe.  We welcome everything from muscle cars to exotics to import to trucks to bikes! Go kart track opening soon.
URL:https://carsandcoffeeevents.com/event/lake-view-grill-monday-meet/2031-02-17/
LOCATION:Lake View Grill\, 5835 Middle Country Road\, Calverton\, NY\, 11933\, United States
CATEGORIES:New York
ATTACH;FMTTYPE=image/png:https://carsandcoffeeevents.com/wp-content/uploads/2024/06/car-meet-flyer.png
ORGANIZER;CN="@scottspointe":MAILTO:events@scottspointe.com
END:VEVENT
BEGIN:VEVENT
DTSTART;TZID=America/New_York:20310219T170000
DTEND;TZID=America/New_York:20310219T210000
DTSTAMP:20260420T101651
CREATED:20231205T233008Z
LAST-MODIFIED:20231205T233008Z
UID:10179575-1929286800-1929301200@carsandcoffeeevents.com
SUMMARY:Weekly Bike vs Car Meet
DESCRIPTION:Join Warriors Ambition for their weekly bike meet vs car meet event. Prizes will be awarded to the most repped club\, group or crew. There will be a DJ\, raffles\, vendors\, and giveaways. Don’t miss out on the fun!
URL:https://carsandcoffeeevents.com/event/weekly-bike-vs-car-meet/2031-02-19/
LOCATION:Warriors Ambition\, 3405 Forum Blvd\, Fort Myers\, FL\, 33905\, United States
CATEGORIES:Florida
ATTACH;FMTTYPE=image/jpeg:https://carsandcoffeeevents.com/wp-content/uploads/2023/12/Weekly-Bike-vs-Car-Meet.jpg
END:VEVENT
BEGIN:VEVENT
DTSTART;TZID=America/Chicago:20310222T110000
DTEND;TZID=America/Chicago:20310222T150000
DTSTAMP:20260420T101651
CREATED:20231130T153612Z
LAST-MODIFIED:20231130T153612Z
UID:10180336-1929524400-1929538800@carsandcoffeeevents.com
SUMMARY:Saturdays at The Ranch
DESCRIPTION:Come hang out with us here at The Ranch Harley-Davidson & The Ranch RV in College Station\, Texas from 11am- 3pm! Ride OR Drive in! -FREE ICE COLD Adult Beverages*\, Soda\, & Water -Food Truck -DJ Nick Catalina -Vendors -Ride our Harley-Davidson Jumpstart Simulator (no experience required) -Door Prizes & more! As always\, all makes & models are welcome! Cars are welcome too! \n*Adult beverages available only with valid ID\, 21 & older. As always\, please drink responsibly.*
URL:https://carsandcoffeeevents.com/event/saturdays-at-the-ranch/2031-02-22/
LOCATION:The Ranch Harley-Davidson\, 4115 Texas 6 Frontage Road\, College Station\, TX\, 77845\, United States
CATEGORIES:Texas
ATTACH;FMTTYPE=image/jpeg:https://carsandcoffeeevents.com/wp-content/uploads/2023/11/Saturdays-at-The-Ranch.jpg
ORGANIZER;CN="The Ranch Harley-Davidson":MAILTO:marketing@theranchhd.com
END:VEVENT
BEGIN:VEVENT
DTSTART;TZID=America/New_York:20310224T170000
DTEND;TZID=America/New_York:20310224T210000
DTSTAMP:20260420T101651
CREATED:20240612T142943Z
LAST-MODIFIED:20240612T142943Z
UID:10181963-1929718800-1929733200@carsandcoffeeevents.com
SUMMARY:Lake View Grill Monday Meet
DESCRIPTION:The Lake View Grill car meets will be hosted at Long Islands newest lake front restaurant. Car meet attendees will receive 10% off in the restaurant and park for a chance to experience all the attractions at Scott’s Pointe.  We welcome everything from muscle cars to exotics to import to trucks to bikes! Go kart track opening soon.
URL:https://carsandcoffeeevents.com/event/lake-view-grill-monday-meet/2031-02-24/
LOCATION:Lake View Grill\, 5835 Middle Country Road\, Calverton\, NY\, 11933\, United States
CATEGORIES:New York
ATTACH;FMTTYPE=image/png:https://carsandcoffeeevents.com/wp-content/uploads/2024/06/car-meet-flyer.png
ORGANIZER;CN="@scottspointe":MAILTO:events@scottspointe.com
END:VEVENT
BEGIN:VEVENT
DTSTART;TZID=America/New_York:20310226T170000
DTEND;TZID=America/New_York:20310226T210000
DTSTAMP:20260420T101651
CREATED:20231205T233008Z
LAST-MODIFIED:20231205T233008Z
UID:10182161-1929891600-1929906000@carsandcoffeeevents.com
SUMMARY:Weekly Bike vs Car Meet
DESCRIPTION:Join Warriors Ambition for their weekly bike meet vs car meet event. Prizes will be awarded to the most repped club\, group or crew. There will be a DJ\, raffles\, vendors\, and giveaways. Don’t miss out on the fun!
URL:https://carsandcoffeeevents.com/event/weekly-bike-vs-car-meet/2031-02-26/
LOCATION:Warriors Ambition\, 3405 Forum Blvd\, Fort Myers\, FL\, 33905\, United States
CATEGORIES:Florida
ATTACH;FMTTYPE=image/jpeg:https://carsandcoffeeevents.com/wp-content/uploads/2023/12/Weekly-Bike-vs-Car-Meet.jpg
END:VEVENT
BEGIN:VEVENT
DTSTART;TZID=America/Chicago:20310301T110000
DTEND;TZID=America/Chicago:20310301T150000
DTSTAMP:20260420T101651
CREATED:20231130T153612Z
LAST-MODIFIED:20231130T153612Z
UID:10180337-1930129200-1930143600@carsandcoffeeevents.com
SUMMARY:Saturdays at The Ranch
DESCRIPTION:Come hang out with us here at The Ranch Harley-Davidson & The Ranch RV in College Station\, Texas from 11am- 3pm! Ride OR Drive in! -FREE ICE COLD Adult Beverages*\, Soda\, & Water -Food Truck -DJ Nick Catalina -Vendors -Ride our Harley-Davidson Jumpstart Simulator (no experience required) -Door Prizes & more! As always\, all makes & models are welcome! Cars are welcome too! \n*Adult beverages available only with valid ID\, 21 & older. As always\, please drink responsibly.*
URL:https://carsandcoffeeevents.com/event/saturdays-at-the-ranch/2031-03-01/
LOCATION:The Ranch Harley-Davidson\, 4115 Texas 6 Frontage Road\, College Station\, TX\, 77845\, United States
CATEGORIES:Texas
ATTACH;FMTTYPE=image/jpeg:https://carsandcoffeeevents.com/wp-content/uploads/2023/11/Saturdays-at-The-Ranch.jpg
ORGANIZER;CN="The Ranch Harley-Davidson":MAILTO:marketing@theranchhd.com
END:VEVENT
BEGIN:VEVENT
DTSTART;TZID=America/New_York:20310303T170000
DTEND;TZID=America/New_York:20310303T210000
DTSTAMP:20260420T101651
CREATED:20240612T142943Z
LAST-MODIFIED:20240612T142943Z
UID:10181964-1930323600-1930338000@carsandcoffeeevents.com
SUMMARY:Lake View Grill Monday Meet
DESCRIPTION:The Lake View Grill car meets will be hosted at Long Islands newest lake front restaurant. Car meet attendees will receive 10% off in the restaurant and park for a chance to experience all the attractions at Scott’s Pointe.  We welcome everything from muscle cars to exotics to import to trucks to bikes! Go kart track opening soon.
URL:https://carsandcoffeeevents.com/event/lake-view-grill-monday-meet/2031-03-03/
LOCATION:Lake View Grill\, 5835 Middle Country Road\, Calverton\, NY\, 11933\, United States
CATEGORIES:New York
ATTACH;FMTTYPE=image/png:https://carsandcoffeeevents.com/wp-content/uploads/2024/06/car-meet-flyer.png
ORGANIZER;CN="@scottspointe":MAILTO:events@scottspointe.com
END:VEVENT
BEGIN:VEVENT
DTSTART;TZID=America/New_York:20310305T170000
DTEND;TZID=America/New_York:20310305T210000
DTSTAMP:20260420T101651
CREATED:20231205T233008Z
LAST-MODIFIED:20231205T233008Z
UID:10182162-1930496400-1930510800@carsandcoffeeevents.com
SUMMARY:Weekly Bike vs Car Meet
DESCRIPTION:Join Warriors Ambition for their weekly bike meet vs car meet event. Prizes will be awarded to the most repped club\, group or crew. There will be a DJ\, raffles\, vendors\, and giveaways. Don’t miss out on the fun!
URL:https://carsandcoffeeevents.com/event/weekly-bike-vs-car-meet/2031-03-05/
LOCATION:Warriors Ambition\, 3405 Forum Blvd\, Fort Myers\, FL\, 33905\, United States
CATEGORIES:Florida
ATTACH;FMTTYPE=image/jpeg:https://carsandcoffeeevents.com/wp-content/uploads/2023/12/Weekly-Bike-vs-Car-Meet.jpg
END:VEVENT
BEGIN:VEVENT
DTSTART;TZID=America/Chicago:20310308T110000
DTEND;TZID=America/Chicago:20310308T150000
DTSTAMP:20260420T101651
CREATED:20231130T153612Z
LAST-MODIFIED:20231130T153612Z
UID:10188247-1930734000-1930748400@carsandcoffeeevents.com
SUMMARY:Saturdays at The Ranch
DESCRIPTION:Come hang out with us here at The Ranch Harley-Davidson & The Ranch RV in College Station\, Texas from 11am- 3pm! Ride OR Drive in! -FREE ICE COLD Adult Beverages*\, Soda\, & Water -Food Truck -DJ Nick Catalina -Vendors -Ride our Harley-Davidson Jumpstart Simulator (no experience required) -Door Prizes & more! As always\, all makes & models are welcome! Cars are welcome too! \n*Adult beverages available only with valid ID\, 21 & older. As always\, please drink responsibly.*
URL:https://carsandcoffeeevents.com/event/saturdays-at-the-ranch/2031-03-08/
LOCATION:The Ranch Harley-Davidson\, 4115 Texas 6 Frontage Road\, College Station\, TX\, 77845\, United States
CATEGORIES:Texas
ATTACH;FMTTYPE=image/jpeg:https://carsandcoffeeevents.com/wp-content/uploads/2023/11/Saturdays-at-The-Ranch.jpg
ORGANIZER;CN="The Ranch Harley-Davidson":MAILTO:marketing@theranchhd.com
END:VEVENT
BEGIN:VEVENT
DTSTART;TZID=America/New_York:20310310T170000
DTEND;TZID=America/New_York:20310310T210000
DTSTAMP:20260420T101651
CREATED:20240612T142943Z
LAST-MODIFIED:20240612T142943Z
UID:10195731-1930928400-1930942800@carsandcoffeeevents.com
SUMMARY:Lake View Grill Monday Meet
DESCRIPTION:The Lake View Grill car meets will be hosted at Long Islands newest lake front restaurant. Car meet attendees will receive 10% off in the restaurant and park for a chance to experience all the attractions at Scott’s Pointe.  We welcome everything from muscle cars to exotics to import to trucks to bikes! Go kart track opening soon.
URL:https://carsandcoffeeevents.com/event/lake-view-grill-monday-meet/2031-03-10/
LOCATION:Lake View Grill\, 5835 Middle Country Road\, Calverton\, NY\, 11933\, United States
CATEGORIES:New York
ATTACH;FMTTYPE=image/png:https://carsandcoffeeevents.com/wp-content/uploads/2024/06/car-meet-flyer.png
ORGANIZER;CN="@scottspointe":MAILTO:events@scottspointe.com
END:VEVENT
BEGIN:VEVENT
DTSTART;TZID=America/New_York:20310312T170000
DTEND;TZID=America/New_York:20310312T210000
DTSTAMP:20260420T101651
CREATED:20231205T233008Z
LAST-MODIFIED:20231205T233008Z
UID:10196219-1931101200-1931115600@carsandcoffeeevents.com
SUMMARY:Weekly Bike vs Car Meet
DESCRIPTION:Join Warriors Ambition for their weekly bike meet vs car meet event. Prizes will be awarded to the most repped club\, group or crew. There will be a DJ\, raffles\, vendors\, and giveaways. Don’t miss out on the fun!
URL:https://carsandcoffeeevents.com/event/weekly-bike-vs-car-meet/2031-03-12/
LOCATION:Warriors Ambition\, 3405 Forum Blvd\, Fort Myers\, FL\, 33905\, United States
CATEGORIES:Florida
ATTACH;FMTTYPE=image/jpeg:https://carsandcoffeeevents.com/wp-content/uploads/2023/12/Weekly-Bike-vs-Car-Meet.jpg
END:VEVENT
BEGIN:VEVENT
DTSTART;TZID=America/Chicago:20310315T110000
DTEND;TZID=America/Chicago:20310315T150000
DTSTAMP:20260420T101651
CREATED:20231130T153612Z
LAST-MODIFIED:20231130T153612Z
UID:10188248-1931338800-1931353200@carsandcoffeeevents.com
SUMMARY:Saturdays at The Ranch
DESCRIPTION:Come hang out with us here at The Ranch Harley-Davidson & The Ranch RV in College Station\, Texas from 11am- 3pm! Ride OR Drive in! -FREE ICE COLD Adult Beverages*\, Soda\, & Water -Food Truck -DJ Nick Catalina -Vendors -Ride our Harley-Davidson Jumpstart Simulator (no experience required) -Door Prizes & more! As always\, all makes & models are welcome! Cars are welcome too! \n*Adult beverages available only with valid ID\, 21 & older. As always\, please drink responsibly.*
URL:https://carsandcoffeeevents.com/event/saturdays-at-the-ranch/2031-03-15/
LOCATION:The Ranch Harley-Davidson\, 4115 Texas 6 Frontage Road\, College Station\, TX\, 77845\, United States
CATEGORIES:Texas
ATTACH;FMTTYPE=image/jpeg:https://carsandcoffeeevents.com/wp-content/uploads/2023/11/Saturdays-at-The-Ranch.jpg
ORGANIZER;CN="The Ranch Harley-Davidson":MAILTO:marketing@theranchhd.com
END:VEVENT
BEGIN:VEVENT
DTSTART;TZID=America/New_York:20310317T170000
DTEND;TZID=America/New_York:20310317T210000
DTSTAMP:20260420T101651
CREATED:20240612T142943Z
LAST-MODIFIED:20240612T142943Z
UID:10195732-1931533200-1931547600@carsandcoffeeevents.com
SUMMARY:Lake View Grill Monday Meet
DESCRIPTION:The Lake View Grill car meets will be hosted at Long Islands newest lake front restaurant. Car meet attendees will receive 10% off in the restaurant and park for a chance to experience all the attractions at Scott’s Pointe.  We welcome everything from muscle cars to exotics to import to trucks to bikes! Go kart track opening soon.
URL:https://carsandcoffeeevents.com/event/lake-view-grill-monday-meet/2031-03-17/
LOCATION:Lake View Grill\, 5835 Middle Country Road\, Calverton\, NY\, 11933\, United States
CATEGORIES:New York
ATTACH;FMTTYPE=image/png:https://carsandcoffeeevents.com/wp-content/uploads/2024/06/car-meet-flyer.png
ORGANIZER;CN="@scottspointe":MAILTO:events@scottspointe.com
END:VEVENT
BEGIN:VEVENT
DTSTART;TZID=America/New_York:20310319T170000
DTEND;TZID=America/New_York:20310319T210000
DTSTAMP:20260420T101651
CREATED:20231205T233008Z
LAST-MODIFIED:20231205T233008Z
UID:10196220-1931706000-1931720400@carsandcoffeeevents.com
SUMMARY:Weekly Bike vs Car Meet
DESCRIPTION:Join Warriors Ambition for their weekly bike meet vs car meet event. Prizes will be awarded to the most repped club\, group or crew. There will be a DJ\, raffles\, vendors\, and giveaways. Don’t miss out on the fun!
URL:https://carsandcoffeeevents.com/event/weekly-bike-vs-car-meet/2031-03-19/
LOCATION:Warriors Ambition\, 3405 Forum Blvd\, Fort Myers\, FL\, 33905\, United States
CATEGORIES:Florida
ATTACH;FMTTYPE=image/jpeg:https://carsandcoffeeevents.com/wp-content/uploads/2023/12/Weekly-Bike-vs-Car-Meet.jpg
END:VEVENT
BEGIN:VEVENT
DTSTART;TZID=America/Chicago:20310322T110000
DTEND;TZID=America/Chicago:20310322T150000
DTSTAMP:20260420T101651
CREATED:20231130T153612Z
LAST-MODIFIED:20231130T153612Z
UID:10198708-1931943600-1931958000@carsandcoffeeevents.com
SUMMARY:Saturdays at The Ranch
DESCRIPTION:Come hang out with us here at The Ranch Harley-Davidson & The Ranch RV in College Station\, Texas from 11am- 3pm! Ride OR Drive in! -FREE ICE COLD Adult Beverages*\, Soda\, & Water -Food Truck -DJ Nick Catalina -Vendors -Ride our Harley-Davidson Jumpstart Simulator (no experience required) -Door Prizes & more! As always\, all makes & models are welcome! Cars are welcome too! \n*Adult beverages available only with valid ID\, 21 & older. As always\, please drink responsibly.*
URL:https://carsandcoffeeevents.com/event/saturdays-at-the-ranch/2031-03-22/
LOCATION:The Ranch Harley-Davidson\, 4115 Texas 6 Frontage Road\, College Station\, TX\, 77845\, United States
CATEGORIES:Texas
ATTACH;FMTTYPE=image/jpeg:https://carsandcoffeeevents.com/wp-content/uploads/2023/11/Saturdays-at-The-Ranch.jpg
ORGANIZER;CN="The Ranch Harley-Davidson":MAILTO:marketing@theranchhd.com
END:VEVENT
BEGIN:VEVENT
DTSTART;TZID=America/New_York:20310324T170000
DTEND;TZID=America/New_York:20310324T210000
DTSTAMP:20260420T101651
CREATED:20240612T142943Z
LAST-MODIFIED:20240612T142943Z
UID:10195733-1932138000-1932152400@carsandcoffeeevents.com
SUMMARY:Lake View Grill Monday Meet
DESCRIPTION:The Lake View Grill car meets will be hosted at Long Islands newest lake front restaurant. Car meet attendees will receive 10% off in the restaurant and park for a chance to experience all the attractions at Scott’s Pointe.  We welcome everything from muscle cars to exotics to import to trucks to bikes! Go kart track opening soon.
URL:https://carsandcoffeeevents.com/event/lake-view-grill-monday-meet/2031-03-24/
LOCATION:Lake View Grill\, 5835 Middle Country Road\, Calverton\, NY\, 11933\, United States
CATEGORIES:New York
ATTACH;FMTTYPE=image/png:https://carsandcoffeeevents.com/wp-content/uploads/2024/06/car-meet-flyer.png
ORGANIZER;CN="@scottspointe":MAILTO:events@scottspointe.com
END:VEVENT
BEGIN:VEVENT
DTSTART;TZID=America/New_York:20310326T170000
DTEND;TZID=America/New_York:20310326T210000
DTSTAMP:20260420T101651
CREATED:20231205T233008Z
LAST-MODIFIED:20231205T233008Z
UID:10196221-1932310800-1932325200@carsandcoffeeevents.com
SUMMARY:Weekly Bike vs Car Meet
DESCRIPTION:Join Warriors Ambition for their weekly bike meet vs car meet event. Prizes will be awarded to the most repped club\, group or crew. There will be a DJ\, raffles\, vendors\, and giveaways. Don’t miss out on the fun!
URL:https://carsandcoffeeevents.com/event/weekly-bike-vs-car-meet/2031-03-26/
LOCATION:Warriors Ambition\, 3405 Forum Blvd\, Fort Myers\, FL\, 33905\, United States
CATEGORIES:Florida
ATTACH;FMTTYPE=image/jpeg:https://carsandcoffeeevents.com/wp-content/uploads/2023/12/Weekly-Bike-vs-Car-Meet.jpg
END:VEVENT
BEGIN:VEVENT
DTSTART;TZID=America/Chicago:20310329T110000
DTEND;TZID=America/Chicago:20310329T150000
DTSTAMP:20260420T101651
CREATED:20231130T153612Z
LAST-MODIFIED:20231130T153612Z
UID:10198709-1932548400-1932562800@carsandcoffeeevents.com
SUMMARY:Saturdays at The Ranch
DESCRIPTION:Come hang out with us here at The Ranch Harley-Davidson & The Ranch RV in College Station\, Texas from 11am- 3pm! Ride OR Drive in! -FREE ICE COLD Adult Beverages*\, Soda\, & Water -Food Truck -DJ Nick Catalina -Vendors -Ride our Harley-Davidson Jumpstart Simulator (no experience required) -Door Prizes & more! As always\, all makes & models are welcome! Cars are welcome too! \n*Adult beverages available only with valid ID\, 21 & older. As always\, please drink responsibly.*
URL:https://carsandcoffeeevents.com/event/saturdays-at-the-ranch/2031-03-29/
LOCATION:The Ranch Harley-Davidson\, 4115 Texas 6 Frontage Road\, College Station\, TX\, 77845\, United States
CATEGORIES:Texas
ATTACH;FMTTYPE=image/jpeg:https://carsandcoffeeevents.com/wp-content/uploads/2023/11/Saturdays-at-The-Ranch.jpg
ORGANIZER;CN="The Ranch Harley-Davidson":MAILTO:marketing@theranchhd.com
END:VEVENT
BEGIN:VEVENT
DTSTART;TZID=America/Chicago:20310405T110000
DTEND;TZID=America/Chicago:20310405T150000
DTSTAMP:20260420T101651
CREATED:20231130T153612Z
LAST-MODIFIED:20231130T153612Z
UID:10198710-1933153200-1933167600@carsandcoffeeevents.com
SUMMARY:Saturdays at The Ranch
DESCRIPTION:Come hang out with us here at The Ranch Harley-Davidson & The Ranch RV in College Station\, Texas from 11am- 3pm! Ride OR Drive in! -FREE ICE COLD Adult Beverages*\, Soda\, & Water -Food Truck -DJ Nick Catalina -Vendors -Ride our Harley-Davidson Jumpstart Simulator (no experience required) -Door Prizes & more! As always\, all makes & models are welcome! Cars are welcome too! \n*Adult beverages available only with valid ID\, 21 & older. As always\, please drink responsibly.*
URL:https://carsandcoffeeevents.com/event/saturdays-at-the-ranch/2031-04-05/
LOCATION:The Ranch Harley-Davidson\, 4115 Texas 6 Frontage Road\, College Station\, TX\, 77845\, United States
CATEGORIES:Texas
ATTACH;FMTTYPE=image/jpeg:https://carsandcoffeeevents.com/wp-content/uploads/2023/11/Saturdays-at-The-Ranch.jpg
ORGANIZER;CN="The Ranch Harley-Davidson":MAILTO:marketing@theranchhd.com
END:VEVENT
END:VCALENDAR